BEGIN:VCALENDAR
VERSION:2.0
PRODID:-//wp-events-plugin.com//7.2.3.1//EN
TZID:America/Los_Angeles
X-WR-TIMEZONE:America/Los_Angeles
BEGIN:VEVENT
UID:18451@fakce.org
DTSTART;TZID=America/Los_Angeles:20260217T180000
DTEND;TZID=America/Los_Angeles:20260217T200000
DTSTAMP:20260115T204127Z
URL:https://fakce.org/events/en-linea-la-tecnologia-y-el-desarrollo-cognit
 ivo-2026-02-17/
SUMMARY:En Línea | La Tecnología y el Desarrollo Cognitivo
DESCRIPTION:Instructores: Representantes del Centro de Bienestar del Hospit
 al Scripps Mercy\n\nDescripción: Esta sesión explora cómo el uso de la 
 tecnología afecta el desarrollo cognitivo en niños y adolescentes. Los p
 adres de crianza aprenderán sobre los riesgos y beneficios del tiempo fre
 nte a pantallas y cómo fomentar hábitos tecnológicos saludables en casa
 .\n***Nota importante: Esta clase se llevará a cabo a través de la plata
 forma Zoom.***\nSe requiere acceso a internet y a una computadora\, laptop
 \, tableta o teléfono inteligente para asistir.\nLe pedimos amablemente a
  los participantes que eviten el uso de fondos virtuales que distraigan. P
 or privacidad\, recomendamos usar la función de desenfoque.\nNo se permit
 e tomar esta clase desde un vehículo.\nEl enlace de Zoom para asistir a e
 sta clase se enviará por correo electrónico.\nPor favor\, siga el siguie
 nte enlace para ver un breve tutorial sobre cómo crear una cuenta gratuit
 a en Zoom.\nZoom User Guide
ATTACH;FMTTYPE=image/jpeg:https://fakce.org/wp-content/uploads/2016/08/n-T
 ANTRUM-628x314.jpg
CATEGORIES:Classes,Online Classes,Specialty Classes
LOCATION:Zoom\, 0000 Zoom \, San Diego\, United States
X-APPLE-STRUCTURED-LOCATION;VALUE=URI;X-ADDRESS=0000 Zoom \, San Diego\, Un
 ited States;X-APPLE-RADIUS=100;X-TITLE=Zoom:geo:0,0
END:VEVENT
BEGIN:VTIMEZONE
TZID:America/Los_Angeles
X-LIC-LOCATION:America/Los_Angeles
BEGIN:STANDARD
DTSTART:20251102T010000
TZOFFSETFROM:-0700
TZOFFSETTO:-0800
TZNAME:PST
END:STANDARD
END:VTIMEZONE
END:VCALENDAR