BEGIN:VCALENDAR
VERSION:2.0
PRODID:-//wp-events-plugin.com//7.2.3.1//EN
TZID:America/Los_Angeles
X-WR-TIMEZONE:America/Los_Angeles
BEGIN:VEVENT
UID:14016@fakce.org
DTSTART;TZID=America/Los_Angeles:20220212T090000
DTEND;TZID=America/Los_Angeles:20220212T140000
DTSTAMP:20211214T181704Z
URL:https://fakce.org/events/en-linea-la-salud-sexual-y-reproductiva-en-jo
 venes-de-crianza-2022-02-12/
SUMMARY:En Linea| La Salud Sexual y Reproductiva en Jóvenes de Crianza
DESCRIPTION:La Ley de Educación en Salud Sexual para Jóvenes de Crianza 
 entró en vigor el 1 de julio del 2017. Asegura que los niños de 10 años
  o más en los hogares de crianza tienen acceso a educación\, informació
 n y servicios sobre salud reproductiva y exige capacitación para trabajad
 ores sociales\, jueces y cuidadores. Este curso combina el conocimiento y 
 la práctica de habilidades en el área de la salud sexual en los niños y
  proporcionará orientación sobre cómo comprometerse con los jóvenes y 
 los adultos jóvenes sobre el desarrollo sexual saludable y salud sexual y
  reproductiva de una manera que sea médicamente precisa\, apropiado para 
 el desarrollo y la edad\, informado sobre el trauma y basado en las fortal
 ezas.\nRegistro cerrara el Viernes 11 de Febrero 2022 a las 12pm\n***Por F
 avor Tome Nota: Esta clase se facilitará en la plataforma en línea llam
 ada Zoom. Se requiere acceso a Internet y acceso a una computadora / compu
 tadora portátil / tableta / teléfono inteligente para asistir.\nEl enlac
 e para assistir a esta clase se proveera despues de que se registre.\nSiga
  el enlace a continuación para obtener un breve tutorial sobre cómo regi
 strarse para obtener una cuenta de\nGuia de Zoom para Usuarios
ATTACH;FMTTYPE=image/jpeg:https://fakce.org/wp-content/uploads/2016/08/Cha
 iKids.jpg
CATEGORIES:Classes,Online Classes,Specialty Classes
LOCATION:Zoom\, 0000 Zoom \, San Diego\, United States
X-APPLE-STRUCTURED-LOCATION;VALUE=URI;X-ADDRESS=0000 Zoom \, San Diego\, Un
 ited States;X-APPLE-RADIUS=100;X-TITLE=Zoom:geo:0,0
END:VEVENT
BEGIN:VTIMEZONE
TZID:America/Los_Angeles
X-LIC-LOCATION:America/Los_Angeles
BEGIN:STANDARD
DTSTART:20211107T010000
TZOFFSETFROM:-0700
TZOFFSETTO:-0800
TZNAME:PST
END:STANDARD
END:VTIMEZONE
END:VCALENDAR