BEGIN:VCALENDAR
VERSION:2.0
PRODID:-//wp-events-plugin.com//7.2.3.1//EN
TZID:America/Los_Angeles
X-WR-TIMEZONE:America/Los_Angeles
BEGIN:VEVENT
UID:15924@fakce.org
DTSTART;TZID=America/Los_Angeles:20231017T180000
DTEND;TZID=America/Los_Angeles:20231017T200000
DTSTAMP:20230816T171438Z
URL:https://fakce.org/events/en-linea-la-salud-mental-y-el-bienestar-de-lo
 s-adolescentes-2023-10-17/
SUMMARY:En Linea | La Salud Mental y El Bienestar de los Adolescentes
DESCRIPTION:Este curso proporcionará a los padres información sobre la im
 portancia de cuidar la salud mental y la necesidad de incorporar esta prá
 ctica en la salud general de un niño de crianza. Los padres recibirán he
 rramientas para tener una conversación abierta con su hijo de crianza sob
 re este tema y se les proporcionarán formularios para ejercitar su salud 
 mental.\nRegistro cerrará el Martes 17 de Octubre 2023 a las 7 am\n***Por
  Favor Tome Nota: Esta clase se facilitará en la plataforma en línea ll
 amada Zoom. Se requiere acceso a Internet y acceso a una computadora / com
 putadora portátil / tableta / teléfono inteligente para asistir.\nEl enl
 ace para assistir a esta clase se proveera despues de que se registre.\nSi
 ga el enlace a continuación para obtener un breve tutorial sobre cómo re
 gistrarse para obtener una cuenta de\nGuia de Zoom para Usuarios
ATTACH;FMTTYPE=image/jpeg:https://fakce.org/wp-content/uploads/2016/03/leg
 s-407196_1280.jpg
CATEGORIES:Classes,Online Classes,Specialty Classes
LOCATION:Zoom\, 0000 Zoom \, San Diego\, United States
X-APPLE-STRUCTURED-LOCATION;VALUE=URI;X-ADDRESS=0000 Zoom \, San Diego\, Un
 ited States;X-APPLE-RADIUS=100;X-TITLE=Zoom:geo:0,0
END:VEVENT
BEGIN:VTIMEZONE
TZID:America/Los_Angeles
X-LIC-LOCATION:America/Los_Angeles
BEGIN:DAYLIGHT
DTSTART:20230312T030000
TZOFFSETFROM:-0800
TZOFFSETTO:-0700
TZNAME:PDT
END:DAYLIGHT
END:VTIMEZONE
END:VCALENDAR