BEGIN:VCALENDAR
VERSION:2.0
PRODID:-//wp-events-plugin.com//7.2.3.1//EN
TZID:America/Los_Angeles
X-WR-TIMEZONE:America/Los_Angeles
BEGIN:VEVENT
UID:17208@fakce.org
DTSTART;TZID=America/Los_Angeles:20240910T180000
DTEND;TZID=America/Los_Angeles:20240910T200000
DTSTAMP:20240806T220737Z
URL:https://fakce.org/events/en-linea-la-prevencion-del-suicidio-2024-09-1
 0/
SUMMARY:En Línea | La Prevención del Suicidio
DESCRIPTION:Instructores: Representantes de Scripps Mercy Hospital’s Well
 ‐Being Center\nEs imperativo que los cuidadores estén informados sobre 
 la prevención del suicidio y las señales de advertencia de suicidio\, es
 pecialmente porque las investigaciones indican que los jóvenes en hogares
  de crianza tienen un mayor riesgo. Los jóvenes en hogares de crianza tie
 nen 3 veces más probabilidades de considerar signiﬁcativamente el suici
 dio\, 4 veces más probabilidades de haber hecho un intento de suicidio en
  los últimos 12 meses y 5 veces más probabilidades de ser hospitalizados
  después de un intento de suicidio en comparación con los jóvenes que n
 o están en hogares de crianza. ¡Únase a nosotros en un tema muy importa
 nte que no debe perderse!\nRegistro cerrará el Martes 10 de Septiembre 20
 24 a las 7am \n***Por Favor Tome Nota: Esta clase se facilitará en la p
 lataforma en línea llamada Zoom. Se requiere acceso a Internet y acceso a
  una computadora / computadora portátil / tableta / teléfono inteligente
  para asistir.\nEl enlace para asistir a esta clase se proveerá despues d
 e que se registre.\nSiga el enlace a continuación para obtener un breve t
 utorial sobre cómo registrarse para obtener una cuenta de\nGuia de Zoom p
 ara Usuarios
CATEGORIES:Classes,Online Classes,Specialty Classes
LOCATION:Zoom\, 0000 Zoom \, San Diego\, United States
X-APPLE-STRUCTURED-LOCATION;VALUE=URI;X-ADDRESS=0000 Zoom \, San Diego\, Un
 ited States;X-APPLE-RADIUS=100;X-TITLE=Zoom:geo:0,0
END:VEVENT
BEGIN:VTIMEZONE
TZID:America/Los_Angeles
X-LIC-LOCATION:America/Los_Angeles
BEGIN:DAYLIGHT
DTSTART:20240310T030000
TZOFFSETFROM:-0800
TZOFFSETTO:-0700
TZNAME:PDT
END:DAYLIGHT
END:VTIMEZONE
END:VCALENDAR