BEGIN:VCALENDAR
VERSION:2.0
PRODID:-//wp-events-plugin.com//7.2.3.1//EN
TZID:America/Los_Angeles
X-WR-TIMEZONE:America/Los_Angeles
BEGIN:VEVENT
UID:18448@fakce.org
DTSTART;TZID=America/Los_Angeles:20260210T180000
DTEND;TZID=America/Los_Angeles:20260210T210000
DTSTAMP:20260115T204534Z
URL:https://fakce.org/events/en-linea-infantes-expuestos-a-drogas-y-alcoho
 l-2026-02-10/
SUMMARY:En Línea | Infantes Expuestos a Drogas y Alcohol
DESCRIPTION:Instructores: Gisella Gomez\, MSW\nDescripción: Este taller pr
 oporcionará una descripción general de la abstinencia infantil y lo que 
 necesita saber sobre cómo cuidar al bebé expuesto a las drogas.\n***Por 
 Favor Tome Nota: Esta clase se llevará a cabo en la plataforma Zoom. Se r
 equiere acceso a internet y a una computadora\, laptop\, tableta o teléfo
 no inteligente para participar.\nPedimos amablemente a los participantes q
 ue eviten el uso de fondos virtuales que puedan distraer. Para mayor priva
 cidad\, recomendamos utilizar la función de desenfoque.\nNo se permite to
 mar esta clase desde un vehículo.\nEl enlace de Zoom para asistir a esta 
 clase será enviado por correo electrónico.\nPor favor\, siga el enlace a
  continuación para ver un breve tutorial sobre cómo registrarse para obt
 ener una cuenta gratuita de Zoom.\nGuia de Zoom para Usuarios
ATTACH;FMTTYPE=image/jpeg:https://fakce.org/wp-content/uploads/2016/03/bro
 thers-457237_1280.jpg
CATEGORIES:Classes,Online Classes,Specialty Classes
LOCATION:Zoom\, 0000 Zoom \, San Diego\, United States
X-APPLE-STRUCTURED-LOCATION;VALUE=URI;X-ADDRESS=0000 Zoom \, San Diego\, Un
 ited States;X-APPLE-RADIUS=100;X-TITLE=Zoom:geo:0,0
END:VEVENT
BEGIN:VTIMEZONE
TZID:America/Los_Angeles
X-LIC-LOCATION:America/Los_Angeles
BEGIN:STANDARD
DTSTART:20251102T010000
TZOFFSETFROM:-0700
TZOFFSETTO:-0800
TZNAME:PST
END:STANDARD
END:VTIMEZONE
END:VCALENDAR