BEGIN:VCALENDAR
VERSION:2.0
PRODID:-//wp-events-plugin.com//7.2.3.1//EN
TZID:America/Los_Angeles
X-WR-TIMEZONE:America/Los_Angeles
BEGIN:VEVENT
UID:14258@fakce.org
DTSTART;TZID=America/Los_Angeles:20220511T180000
DTEND;TZID=America/Los_Angeles:20220511T210000
DTSTAMP:20220330T201809Z
URL:https://fakce.org/events/en-linea-formando-equipo-a-traves-del-proceso
 -de-alegaciones-2022-05-11/
SUMMARY:En Linea | Formando Equipo a Través del Proceso de Alegaciones
DESCRIPTION:Para evitar las acusaciones\, es importante que usted se manten
 ga al día con las regulaciones estatales que gobiernan hogares de familia
 s de crianza. Este taller ayudará a los participantes a desarrollar mas c
 omprensión de las regulaciones\, deﬁnir lo que constituye una alegació
 n de un hogar de crianza\, describir las acusaciones más comunes\, saber 
 cómo evitar las acusaciones y entender el proceso de quejas e investigaci
 ón.\nRegistro cerrara el Miércoles 11 de Mayo a las 7am\n***Por Favor To
 me Nota: Esta clase se facilitará en la plataforma en línea llamada Zoo
 m. Se requiere acceso a Internet y acceso a una computadora / computadora 
 portátil / tableta / teléfono inteligente para asistir.\nEl enlace para 
 assistir a esta clase se proveera despues de que se registre.\nSiga el enl
 ace a continuación para obtener un breve tutorial sobre cómo registrarse
  para obtener una cuenta de\nGuia de Zoom para Usuarios
ATTACH;FMTTYPE=image/jpeg:https://fakce.org/wp-content/uploads/2016/08/kid
 s-·-kids-·-kids.jpg
CATEGORIES:Classes,Online Classes,Specialty Classes
LOCATION:Zoom\, 0000 Zoom \, San Diego\, United States
X-APPLE-STRUCTURED-LOCATION;VALUE=URI;X-ADDRESS=0000 Zoom \, San Diego\, Un
 ited States;X-APPLE-RADIUS=100;X-TITLE=Zoom:geo:0,0
END:VEVENT
BEGIN:VTIMEZONE
TZID:America/Los_Angeles
X-LIC-LOCATION:America/Los_Angeles
BEGIN:DAYLIGHT
DTSTART:20220313T030000
TZOFFSETFROM:-0800
TZOFFSETTO:-0700
TZNAME:PDT
END:DAYLIGHT
END:VTIMEZONE
END:VCALENDAR