BEGIN:VCALENDAR
VERSION:2.0
PRODID:-//wp-events-plugin.com//7.2.3.1//EN
TZID:America/Los_Angeles
X-WR-TIMEZONE:America/Los_Angeles
BEGIN:VEVENT
UID:14856@fakce.org
DTSTART;TZID=America/Los_Angeles:20230221T180000
DTEND;TZID=America/Los_Angeles:20230223T210000
DTSTAMP:20221102T204509Z
URL:https://fakce.org/events/en-linea-factores-de-riesgo-1-2-2023-02-21/
SUMMARY:En Linea| Factores de Riesgo 1 & 2
DESCRIPTION:Debe de tomar ambas clases para recibir crédito completo\nAl 
 registrarse para la parte 1 automáticamente se registra para la parte 2\n
 Martes\, Febrero 21 &amp\; Jueves\, Febrero 23. Esta clase examinará la i
 nformación actual sobre enfermedades hereditarias (incluidas enfermedades
  mentales)\, afecciones congénitas (incluida la parálisis cerebral) y lo
 s riesgos y efectos de la exposición prenatal a drogas\, el alcohol y el 
 VIH\nRegistro cerrara el Martes 21 de Febrero 2023 a las 7am \n***Por Fav
 or Tome Nota: Esta clase se facilitará en la plataforma en línea llamad
 a Zoom. Se requiere acceso a Internet y acceso a una computadora / computa
 dora portátil / tableta / teléfono inteligente para asistir.\nEl enlace 
 para assistir a esta clase se proveera despues de que se registre.\nSiga e
 l enlace a continuación para obtener un breve tutorial sobre cómo regist
 rarse para obtener una cuenta de\nGuia de Zoom para Usuarios
ATTACH;FMTTYPE=image/jpeg:https://fakce.org/wp-content/uploads/2016/08/Fat
 her-reading-to-child.jpg
CATEGORIES:Adoption Classes,Classes,Online Classes
LOCATION:Zoom\, 0000 Zoom \, San Diego\, United States
X-APPLE-STRUCTURED-LOCATION;VALUE=URI;X-ADDRESS=0000 Zoom \, San Diego\, Un
 ited States;X-APPLE-RADIUS=100;X-TITLE=Zoom:geo:0,0
END:VEVENT
BEGIN:VTIMEZONE
TZID:America/Los_Angeles
X-LIC-LOCATION:America/Los_Angeles
BEGIN:STANDARD
DTSTART:20221106T010000
TZOFFSETFROM:-0700
TZOFFSETTO:-0800
TZNAME:PST
END:STANDARD
END:VTIMEZONE
END:VCALENDAR