BEGIN:VCALENDAR
VERSION:2.0
PRODID:-//wp-events-plugin.com//7.2.3.1//EN
TZID:America/Los_Angeles
X-WR-TIMEZONE:America/Los_Angeles
BEGIN:VEVENT
UID:18071@fakce.org
DTSTART;TZID=America/Los_Angeles:20251120T180000
DTEND;TZID=America/Los_Angeles:20251120T210000
DTSTAMP:20251017T173616Z
URL:https://fakce.org/events/en-linea-estres-toxico-proteccion-y-amortigua
 cion-del-estres-traumatico-de-su-hijo-2025-11-20/
SUMMARY:En línea | Estrés Tóxico: Protección y Amortiguación del Estr
 és Traumático de Su Hijo
DESCRIPTION:Instructoras:Gisella Gomez\, MSW &amp\; Martha Velazco\, Trabaj
 adora Social\n\nDescripción: Esta clase ayudará a obtener conciencia sob
 re cómo el estrés traumático afecta la salud física y emocional que\, 
 si no se interviene de manera oportuna\, se convierte en estrés tóxico y
  cómo puede amortiguar ese estrés para su hijo.\n***Nota importante: Est
 a clase se llevará a cabo a través de la plataforma Zoom.***\nSe requier
 e acceso a internet y a una computadora\, laptop\, tableta o teléfono int
 eligente para asistir.\nLe pedimos amablemente a los participantes que evi
 ten el uso de fondos virtuales que distraigan. Por privacidad\, recomendam
 os usar la función de desenfoque.\nNo se permite tomar esta clase desde u
 n vehículo.\nEl enlace de Zoom para asistir a esta clase se enviará por 
 correo electrónico.\nPor favor\, siga el siguiente enlace para ver un bre
 ve tutorial sobre cómo crear una cuenta gratuita en Zoom.\nZoom User Guid
 e
ATTACH;FMTTYPE=image/jpeg:https://fakce.org/wp-content/uploads/2023/04/ist
 ockphoto-1313553003-612x612-1.jpg
CATEGORIES:Classes,Online Classes,Specialty Classes
LOCATION:Zoom\, 0000 Zoom \, San Diego\, United States
X-APPLE-STRUCTURED-LOCATION;VALUE=URI;X-ADDRESS=0000 Zoom \, San Diego\, Un
 ited States;X-APPLE-RADIUS=100;X-TITLE=Zoom:geo:0,0
END:VEVENT
BEGIN:VTIMEZONE
TZID:America/Los_Angeles
X-LIC-LOCATION:America/Los_Angeles
BEGIN:STANDARD
DTSTART:20251102T010000
TZOFFSETFROM:-0700
TZOFFSETTO:-0800
TZNAME:PST
END:STANDARD
END:VTIMEZONE
END:VCALENDAR