BEGIN:VCALENDAR
VERSION:2.0
PRODID:-//wp-events-plugin.com//7.2.3.1//EN
TZID:America/Los_Angeles
X-WR-TIMEZONE:America/Los_Angeles
BEGIN:VEVENT
UID:14312@fakce.org
DTSTART;TZID=America/Los_Angeles:20220625T083000
DTEND;TZID=America/Los_Angeles:20220625T143000
DTSTAMP:20251017T172939Z
URL:https://fakce.org/events/en-linea-estres-toxico-como-amortiguar-el-est
 res-traumatico-de-su-hijo-2022-06-25/
SUMMARY:En Linea | Estrés Tóxico: Cómo Amortiguar el Estrés Traumático
  de su Hijo
DESCRIPTION:El taller ayudará a los cuidadores a tomar conciencia sobre c
 ómo el estrés traumático afecta la salud fisica y emocional que\, si no
  se interviene de manera oportuna se convierte en un estrés tóxico. Tamb
 ién aprenderá como manejar este estrés y así no desahogarlo hacia con 
 su hijo.\nRegistro cerrara el Jueves 23 de Junio\, 2022  a las 12 pm\n***
 Por Favor Tome Nota: Esta clase se facilitará en la plataforma en línea
  llamada Zoom. Se requiere acceso a Internet y acceso a una computadora / 
 computadora portátil / tableta / teléfono inteligente para asistir.\nEl 
 enlace para assistir a esta clase se proveera despues de que se registre.\
 nSiga el enlace a continuación para obtener un breve tutorial sobre cómo
  registrarse para obtener una cuenta de\nGuia de Zoom para Usuarios
ATTACH;FMTTYPE=image/jpeg:https://fakce.org/wp-content/uploads/2015/12/gir
 l-676185_1280.jpg
CATEGORIES:Classes,Online Classes,Specialty Classes
LOCATION:Zoom\, 0000 Zoom \, San Diego\, United States
X-APPLE-STRUCTURED-LOCATION;VALUE=URI;X-ADDRESS=0000 Zoom \, San Diego\, Un
 ited States;X-APPLE-RADIUS=100;X-TITLE=Zoom:geo:0,0
END:VEVENT
BEGIN:VTIMEZONE
TZID:America/Los_Angeles
X-LIC-LOCATION:America/Los_Angeles
BEGIN:DAYLIGHT
DTSTART:20220313T030000
TZOFFSETFROM:-0800
TZOFFSETTO:-0700
TZNAME:PDT
END:DAYLIGHT
END:VTIMEZONE
END:VCALENDAR