BEGIN:VCALENDAR
VERSION:2.0
PRODID:-//wp-events-plugin.com//7.2.3.1//EN
TZID:America/Los_Angeles
X-WR-TIMEZONE:America/Los_Angeles
BEGIN:VEVENT
UID:14756@fakce.org
DTSTART;TZID=America/Los_Angeles:20220929T180000
DTEND;TZID=America/Los_Angeles:20220929T210000
DTSTAMP:20220810T184834Z
URL:https://fakce.org/events/en-linea-estableciendo-limites-2022-09-29/
SUMMARY:En Linea | Estableciendo Limites
DESCRIPTION:Los límites son esenciales en cualquier tipo de relación: ent
 re padres e hijos\, amigos\, empleadores y empleados\, y ciertamente entre
  familias de crianza y familias biológicas. En pocas palabras\, un límit
 e es todo lo que separa dos cosas. Esta clase discutirá la importancia de
  los con éxito en su papel de Padre de Recursos.\nRegistro cerrara el Jue
 ves 29 de Septiembre 2022 a las 7 am \n***Por Favor Tome Nota: Esta clas
 e se facilitará en la plataforma en línea llamada Zoom. Se requiere acce
 so a Internet y acceso a una computadora / computadora portátil / tableta
  / teléfono inteligente para asistir.\nEl enlace para assistir a esta cla
 se se proveera despues de que se registre.\nSiga el enlace a continuación
  para obtener un breve tutorial sobre cómo registrarse para obtener una c
 uenta de\nGuia de Zoom para Usuarios
ATTACH;FMTTYPE=image/jpeg:https://fakce.org/wp-content/uploads/2021/05/Fly
 ing-Boy.jpg
CATEGORIES:Classes,Online Classes,Specialty Classes
LOCATION:Zoom\, 0000 Zoom \, San Diego\, United States
X-APPLE-STRUCTURED-LOCATION;VALUE=URI;X-ADDRESS=0000 Zoom \, San Diego\, Un
 ited States;X-APPLE-RADIUS=100;X-TITLE=Zoom:geo:0,0
END:VEVENT
BEGIN:VTIMEZONE
TZID:America/Los_Angeles
X-LIC-LOCATION:America/Los_Angeles
BEGIN:DAYLIGHT
DTSTART:20220313T030000
TZOFFSETFROM:-0800
TZOFFSETTO:-0700
TZNAME:PDT
END:DAYLIGHT
END:VTIMEZONE
END:VCALENDAR