BEGIN:VCALENDAR
VERSION:2.0
PRODID:-//wp-events-plugin.com//7.2.3.1//EN
TZID:America/Los_Angeles
X-WR-TIMEZONE:America/Los_Angeles
BEGIN:VEVENT
UID:15692@fakce.org
DTSTART;TZID=America/Los_Angeles:20230511T180000
DTEND;TZID=America/Los_Angeles:20230511T210000
DTSTAMP:20230414T155052Z
URL:https://fakce.org/events/en-linea-establecer-limites-saludables-en-el-
 cuidado-de-parentesco-serie-de-parentesco-2023-05-11/
SUMMARY:En Linea | Establecer Límites Saludables en el Cuidado de Parentes
 co (Serie de Parentesco)
DESCRIPTION:Establecer límites saludables es importante en todas las relac
 iones\, pero especialmente importante para las familias de recursos de par
 entesco. Esta clase revisará estrategias para establecer límites saludab
 les con la familia\, conocidos\, niños y la Agencia y cómo establecer bu
 enos límites ayuda a evitar el estrés y el agotamiento.\n\n&nbsp\;\nRegi
 stro cerrara el Jueves 11 de Mayo\, 2023 a las 7am \n***Por Favor Tome No
 ta:Esta clase se facilitará en la plataforma en línea llamada Zoom. Se r
 equiere acceso a Internet y acceso a una computadora / computadora portát
 il / tableta / teléfono inteligente para asistir.\nEl enlace para assisti
 r a esta clase se proveera el dia de clase.\nSiga el enlace a continuació
 n para obtener un breve tutorial sobre cómo registrarse para obtener una 
 cuenta de Zoom gratuita.\nGuía de Zoom para Usuarios
ATTACH;FMTTYPE=image/jpeg:https://fakce.org/wp-content/uploads/2022/07/His
 panic-Family2.jpg
CATEGORIES:Classes,Online Classes,Specialty Classes
LOCATION:Zoom\, 0000 Zoom \, San Diego\, United States
X-APPLE-STRUCTURED-LOCATION;VALUE=URI;X-ADDRESS=0000 Zoom \, San Diego\, Un
 ited States;X-APPLE-RADIUS=100;X-TITLE=Zoom:geo:0,0
END:VEVENT
BEGIN:VTIMEZONE
TZID:America/Los_Angeles
X-LIC-LOCATION:America/Los_Angeles
BEGIN:DAYLIGHT
DTSTART:20230312T030000
TZOFFSETFROM:-0800
TZOFFSETTO:-0700
TZNAME:PDT
END:DAYLIGHT
END:VTIMEZONE
END:VCALENDAR