BEGIN:VCALENDAR
VERSION:2.0
PRODID:-//wp-events-plugin.com//7.2.3.1//EN
TZID:America/Los_Angeles
X-WR-TIMEZONE:America/Los_Angeles
BEGIN:VEVENT
UID:17907@fakce.org
DTSTART;TZID=America/Los_Angeles:20250906T090000
DTEND;TZID=America/Los_Angeles:20250906T130000
DTSTAMP:20250813T233116Z
URL:https://fakce.org/events/en-linea-el-bienestar-sexual-y-reproductivo-p
 ara-los-jovenes-bajo-crianza-temporal-2025-09-06/
SUMMARY:En Línea | El Bienestar Sexual y Reproductivo para los Jóvenes Ba
 jo Crianza Temporal
DESCRIPTION:Instructores: Gisella Gomez\, MSW &amp\; Hiliana Mendoza\, Madr
 e de Crianza/Adoptiva\nDescripción: Este curso combina el conocimiento y 
 la práctica de habilidades en el área de la salud sexual en los niños y
  proporcionará orientación sobre cómo comprometerse con los jóvenes y 
 los adultos jóvenes sobre el desarrollo sexual saludable y salud sexual y
  reproductiva de una manera que sea médicamente precisa\, apropiado para 
 el desarrollo y la edad\,\ninformado sobre el trauma y basado en las forta
 lezas.\n***Por Favor Tome Nota: Esta clase se llevará a cabo en la plataf
 orma Zoom. Se requiere acceso a internet y a una computadora\, laptop\, ta
 bleta o teléfono inteligente para participar.\nPedimos amablemente a los 
 participantes que eviten el uso de fondos virtuales que puedan distraer. P
 ara mayor privacidad\, recomendamos utilizar la función de desenfoque.\nN
 o se permite tomar esta clase desde un vehículo.\nEl enlace de Zoom para 
 asistir a esta clase será enviado por correo electrónico.\nPor favor\, s
 iga el enlace a continuación para ver un breve tutorial sobre cómo regis
 trarse para obtener una cuenta gratuita de Zoom.\nGuia de Zoom para Usuari
 os
ATTACH;FMTTYPE=image/jpeg:https://fakce.org/wp-content/uploads/2023/04/ist
 ockphoto-1313553003-612x612-1.jpg
CATEGORIES:Classes,Online Classes,Specialty Classes
LOCATION:Zoom\, 0000 Zoom \, San Diego\, United States
X-APPLE-STRUCTURED-LOCATION;VALUE=URI;X-ADDRESS=0000 Zoom \, San Diego\, Un
 ited States;X-APPLE-RADIUS=100;X-TITLE=Zoom:geo:0,0
END:VEVENT
BEGIN:VTIMEZONE
TZID:America/Los_Angeles
X-LIC-LOCATION:America/Los_Angeles
BEGIN:DAYLIGHT
DTSTART:20250309T030000
TZOFFSETFROM:-0800
TZOFFSETTO:-0700
TZNAME:PDT
END:DAYLIGHT
END:VTIMEZONE
END:VCALENDAR