BEGIN:VCALENDAR
VERSION:2.0
PRODID:-//wp-events-plugin.com//7.2.3.1//EN
TZID:America/Los_Angeles
X-WR-TIMEZONE:America/Los_Angeles
BEGIN:VEVENT
UID:17778@fakce.org
DTSTART;TZID=America/Los_Angeles:20250612T180000
DTEND;TZID=America/Los_Angeles:20250612T200000
DTSTAMP:20250609T215606Z
URL:https://fakce.org/events/en-linea-educacion-sobre-salud-sexual-discusi
 ones-apropiadas-para-la-edad-sobre-salud-sexual-y-consentimiento-2025-06-1
 2/
SUMMARY:En Línea | Educación Sobre Salud Sexual: Discusiones Apropiadas p
 ara la Edad Sobre Salud Sexual y Consentimiento
DESCRIPTION:Instructores: Representantes de Scripps Mercy Hospital’s Well
 ‐Being Center\nEsta presentación está diseñada para proporcionar a lo
 s Padres de Recursos las herramientas necesarias para tener conversaciones
  abiertas\, honestas y apropiadas para la edad sobre salud sexual y consen
 timiento con los niños y adolescentes bajo su cuidado. Se abordan temas c
 lave como el entendimiento del cuerpo\, las relaciones saludables\, la imp
 ortancia del consentimiento y cómo hablar sobre la salud sexual de manera
  respetuosa e informativa. Al finalizar\nla sesión\, padres estarán mejo
 r preparados para guiar a sus hijos en estos temas importantes\, fomentand
 o un ambiente seguro para el aprendizaje y el crecimiento\, y promoviendo 
 actitudes positivas hacia la salud sexual y los límites personales.\n***P
 or Favor Tome Nota: Esta clase se llevará a cabo en la plataforma Zoom. S
 e requiere acceso a internet y a una computadora\, laptop\, tableta o tel
 éfono inteligente para participar.\nPedimos amablemente a los participant
 es que eviten el uso de fondos virtuales que puedan distraer. Para mayor p
 rivacidad\, recomendamos utilizar la función de desenfoque.\nNo se permit
 e tomar esta clase desde un vehículo.\nEl enlace de Zoom para asistir a e
 sta clase será enviado por correo electrónico.\nPor favor\, siga el enla
 ce a continuación para ver un breve tutorial sobre cómo registrarse para
  obtener una cuenta gratuita de Zoom.\nGuia de Zoom para Usuarios
ATTACH;FMTTYPE=image/jpeg:https://fakce.org/wp-content/uploads/2023/04/ist
 ockphoto-1313553003-612x612-1.jpg
CATEGORIES:Classes,Online Classes,Specialty Classes
LOCATION:Zoom\, 0000 Zoom \, San Diego\, United States
X-APPLE-STRUCTURED-LOCATION;VALUE=URI;X-ADDRESS=0000 Zoom \, San Diego\, Un
 ited States;X-APPLE-RADIUS=100;X-TITLE=Zoom:geo:0,0
END:VEVENT
BEGIN:VTIMEZONE
TZID:America/Los_Angeles
X-LIC-LOCATION:America/Los_Angeles
BEGIN:DAYLIGHT
DTSTART:20250309T030000
TZOFFSETFROM:-0800
TZOFFSETTO:-0700
TZNAME:PDT
END:DAYLIGHT
END:VTIMEZONE
END:VCALENDAR