BEGIN:VCALENDAR
VERSION:2.0
PRODID:-//wp-events-plugin.com//7.2.3.1//EN
TZID:America/Los_Angeles
X-WR-TIMEZONE:America/Los_Angeles
BEGIN:VEVENT
UID:17954@fakce.org
DTSTART;TZID=America/Los_Angeles:20251016T180000
DTEND;TZID=America/Los_Angeles:20251016T203000
DTSTAMP:20250819T215648Z
URL:https://fakce.org/events/en-linea-disciplina-sin-lagrimas-2025-10-16/
SUMMARY:En Linea | Disciplina sin Lagrimas
DESCRIPTION:Instructoras: Gisella Gomez\, MSW &amp\; Hiliana Mendoza\, Madr
 e de Recursos/Adoptiva\n\nDescripción: Utilizando los últimos avances en
  la ciencia del cerebro\, Tina Payne‐Bryce y Dan Siegel han creado un mo
 delo de recursos de investigación que nos muestra por qué la empatía y 
 la conexión son el camino real a la cooperación\, la disciplina y a la a
 rmonía familiar. Esta clase le proporcionará las explicaciones fáciles 
 y consejos prácticos para aprender técnicas disciplinarias que funcionan
 . Con el ﬁn de formar padres con más conﬁanza y para que los niños s
 ean más cooperativos.\n***Por Favor Tome Nota: Esta clase se llevará a c
 abo en la plataforma Zoom. Se requiere acceso a internet y a una computado
 ra\, laptop\, tableta o teléfono inteligente para participar.\nPedimos am
 ablemente a los participantes que eviten el uso de fondos virtuales que pu
 edan distraer. Para mayor privacidad\, recomendamos utilizar la función d
 e desenfoque.\nNo se permite tomar esta clase desde un vehículo.\nEl enla
 ce de Zoom para asistir a esta clase será enviado por correo electrónico
 .\nPor favor\, siga el enlace a continuación para ver un breve tutorial s
 obre cómo registrarse para obtener una cuenta gratuita de Zoom.\nGuia de 
 Zoom para Usuarios
ATTACH;FMTTYPE=image/jpeg:https://fakce.org/wp-content/uploads/2021/05/His
 panic-Family.jpg
CATEGORIES:Classes,Online Classes,Specialty Classes
LOCATION:Zoom\, 0000 Zoom \, San Diego\, United States
X-APPLE-STRUCTURED-LOCATION;VALUE=URI;X-ADDRESS=0000 Zoom \, San Diego\, Un
 ited States;X-APPLE-RADIUS=100;X-TITLE=Zoom:geo:0,0
END:VEVENT
BEGIN:VTIMEZONE
TZID:America/Los_Angeles
X-LIC-LOCATION:America/Los_Angeles
BEGIN:DAYLIGHT
DTSTART:20250309T030000
TZOFFSETFROM:-0800
TZOFFSETTO:-0700
TZNAME:PDT
END:DAYLIGHT
END:VTIMEZONE
END:VCALENDAR