BEGIN:VCALENDAR
VERSION:2.0
PRODID:-//wp-events-plugin.com//7.2.3.1//EN
TZID:America/Los_Angeles
X-WR-TIMEZONE:America/Los_Angeles
BEGIN:VEVENT
UID:18389@fakce.org
DTSTART;TZID=America/Los_Angeles:20260323T180000
DTEND;TZID=America/Los_Angeles:20260323T200000
DTSTAMP:20260129T155918Z
URL:https://fakce.org/events/en-linea-disciplina-positiva-y-mas-grupo-de-a
 poyo-trabajar-con-padres-biologicos-2026-03-23/
SUMMARY:En Linea | Disciplina Positiva Y Más Grupo de Apoyo: Trabajar con 
 padres biológicos
DESCRIPTION:Junta cada 4to lunes del mes \n**No habra junta en mayo\, juni
 o\, julio\, agosto\, noviembre y diciembre**\nLider del Grupo de Apoyo: Em
 ma Martinez-Tidmore\n\nTema: Esta clase comparte consejos prácticos para
  ayudar a crear y mantener relaciones positivas y duraderas entre familias
  biológicas\, familias de acogida y cuidadores de parentesco\, con el fin
  de apoyar al mejor a los niños y jóvenes bajo su cuidado.\n***Por Favor
  Tome Nota: Esta clase se llevará a cabo en la plataforma Zoom.\nSe requ
 iere acceso a Internet y a una computadora\, laptop\, tableta o teléfono 
 inteligente para asistir.\nPara las reuniones de nuestro grupo de apoyo\, 
 todos los participantes deben tener sus cámaras encendidas\, independient
 emente de si están buscando crédito o no. Este requisito está diseñado
  para fomentar la plena participación y conexión entre los participantes
 \, fomentando una atmósfera de mayor apoyo dentro de nuestra comunidad. T
 enga en cuenta que las personas que no puedan participar con sus cámaras 
 encendidas no podrán unirse a las sesiones del grupo de apoyo.\nPedimos a
 mablemente que los participantes eviten usar fondos virtuales que distraig
 an. Para mayor privacidad\, recomendamos usar la función de desenfoque.\n
 No puede tomar esta clase desde un vehículo.\nEl enlace de Zoom para asis
 tir a esta clase se enviará por correo electrónico.\nSiga el enlace a co
 ntinuación para un breve tutorial sobre cómo registrarse para obtener un
 a cuenta gratuita de Zoom.\nGuía de Zoom para Usuarios\n&nbsp\;
ATTACH;FMTTYPE=image/jpeg:https://fakce.org/wp-content/uploads/2016/07/fri
 endship-468851_1280.jpg
CATEGORIES:Classes,Online Classes,Support Groups,Workshops
LOCATION:Zoom\, 0000 Zoom \, San Diego\, United States
X-APPLE-STRUCTURED-LOCATION;VALUE=URI;X-ADDRESS=0000 Zoom \, San Diego\, Un
 ited States;X-APPLE-RADIUS=100;X-TITLE=Zoom:geo:0,0
END:VEVENT
BEGIN:VTIMEZONE
TZID:America/Los_Angeles
X-LIC-LOCATION:America/Los_Angeles
BEGIN:DAYLIGHT
DTSTART:20260308T030000
TZOFFSETFROM:-0800
TZOFFSETTO:-0700
TZNAME:PDT
END:DAYLIGHT
END:VTIMEZONE
END:VCALENDAR