BEGIN:VCALENDAR
VERSION:2.0
PRODID:-//wp-events-plugin.com//7.2.3.1//EN
TZID:America/Los_Angeles
X-WR-TIMEZONE:America/Los_Angeles
BEGIN:VEVENT
UID:18390@fakce.org
DTSTART;TZID=America/Los_Angeles:20260427T180000
DTEND;TZID=America/Los_Angeles:20260427T200000
DTSTAMP:20260205T134244Z
URL:https://fakce.org/events/en-linea-disciplina-positiva-y-mas-grupo-de-a
 poyo-cambie-su-forma-de-hablar-para-cambiar-el-comportamiento-2026-04-27/
SUMMARY:En Linea | Disciplina Positiva Y Más Grupo de Apoyo: Cambie su For
 ma de Hablar para Cambiar el Comportamiento
DESCRIPTION:Junta cada 4to lunes del mes \n**No habra junta en mayo\, juni
 o\, julio\, agosto\, noviembre y diciembre**\nLider del Grupo de Apoyo: Em
 ma Martinez-Tidmore\n\nTema: ¿Ofrece sobornos a su hijo para que se comp
 orte bien? Los padres a menudo se sienten culpables por “usar sobornos
 ” para que sus hijos cumplan con las reglas. En esta clase\, aprenderá 
 algunos ajustes simples del lenguaje que pueden conducir a grandes cambios
  de comportamiento. El primer pequeño cambio en sus palabras es una maner
 a de dejar de ofrecer sobornos por buen comportamiento al no decir "si" y 
 en su lugar usar frases simples que alienten a su hijo a comportarse como 
 usted quisiera. Solo se necesitan tres palabras simples. Al cambiar su idi
 oma\, puede enseñar a los niños cómo pensar por sí mismos y cómo moti
 varse a sí mismos para sentirse capaces de cambiar su comportamiento.\n**
 *Por Favor Tome Nota: Esta clase se llevará a cabo en la plataforma Zoom
 .\nSe requiere acceso a Internet y a una computadora\, laptop\, tableta o 
 teléfono inteligente para asistir.\nPara las reuniones de nuestro grupo d
 e apoyo\, todos los participantes deben tener sus cámaras encendidas\, in
 dependientemente de si están buscando crédito o no. Este requisito está
  diseñado para fomentar la plena participación y conexión entre los par
 ticipantes\, fomentando una atmósfera de mayor apoyo dentro de nuestra co
 munidad. Tenga en cuenta que las personas que no puedan participar con sus
  cámaras encendidas no podrán unirse a las sesiones del grupo de apoyo.\
 nPedimos amablemente que los participantes eviten usar fondos virtuales qu
 e distraigan. Para mayor privacidad\, recomendamos usar la función de des
 enfoque.\nNo puede tomar esta clase desde un vehículo.\nEl enlace de Zoom
  para asistir a esta clase se enviará por correo electrónico.\nSiga el e
 nlace a continuación para un breve tutorial sobre cómo registrarse para 
 obtener una cuenta gratuita de Zoom.\nGuía de Zoom para Usuarios\n&nbsp\;
ATTACH;FMTTYPE=image/jpeg:https://fakce.org/wp-content/uploads/2023/04/ist
 ockphoto-920732910-612x612-1.jpg
CATEGORIES:Classes,Online Classes,Support Groups,Workshops
LOCATION:Zoom\, 0000 Zoom \, San Diego\, United States
X-APPLE-STRUCTURED-LOCATION;VALUE=URI;X-ADDRESS=0000 Zoom \, San Diego\, Un
 ited States;X-APPLE-RADIUS=100;X-TITLE=Zoom:geo:0,0
END:VEVENT
BEGIN:VTIMEZONE
TZID:America/Los_Angeles
X-LIC-LOCATION:America/Los_Angeles
BEGIN:DAYLIGHT
DTSTART:20260308T030000
TZOFFSETFROM:-0800
TZOFFSETTO:-0700
TZNAME:PDT
END:DAYLIGHT
END:VTIMEZONE
END:VCALENDAR