BEGIN:VCALENDAR
VERSION:2.0
PRODID:-//wp-events-plugin.com//7.2.3.1//EN
TZID:America/Los_Angeles
X-WR-TIMEZONE:America/Los_Angeles
BEGIN:VEVENT
UID:18388@fakce.org
DTSTART;TZID=America/Los_Angeles:20260223T180000
DTEND;TZID=America/Los_Angeles:20260223T200000
DTSTAMP:20260117T144900Z
URL:https://fakce.org/events/en-linea-disciplina-positiva-y-mas-grupo-de-a
 poyo-auto-cuidado-para-padres-de-recursos-2026-02-23/
SUMMARY:En Linea | Disciplina Positiva Y Más Grupo de Apoyo: Auto Cuidado 
 para padres de recursos
DESCRIPTION:Junta cada 4to lunes del mes \n**No habra junta en mayo\, juni
 o\, julio\, agosto\, noviembre y diciembre**\nLider del Grupo de Apoyo: Em
 ma Martinez-Tidmore\n\nTema: Este taller enseñará a los padres sobre la
  importancia del autocuidado y cómo se relaciona con la crianza de los hi
 jos\, el manejo del estrés (lidiar con el estrés diario y la frustració
 n) y brindará ejemplos de actividades de autocuidado. Los padres también
  identificarán\, reconocerán y comprenderán los niveles de estrés y c
 ómo minimizar sus efectos tóxicos.\n***Por Favor Tome Nota: Esta clase 
 se llevará a cabo en la plataforma Zoom.\nSe requiere acceso a Internet y
  a una computadora\, laptop\, tableta o teléfono inteligente para asistir
 .\nPara las reuniones de nuestro grupo de apoyo\, todos los participantes 
 deben tener sus cámaras encendidas\, independientemente de si están busc
 ando crédito o no. Este requisito está diseñado para fomentar la plena 
 participación y conexión entre los participantes\, fomentando una atmós
 fera de mayor apoyo dentro de nuestra comunidad. Tenga en cuenta que las p
 ersonas que no puedan participar con sus cámaras encendidas no podrán un
 irse a las sesiones del grupo de apoyo.\nPedimos amablemente que los parti
 cipantes eviten usar fondos virtuales que distraigan. Para mayor privacida
 d\, recomendamos usar la función de desenfoque.\nNo puede tomar esta clas
 e desde un vehículo.\nEl enlace de Zoom para asistir a esta clase se envi
 ará por correo electrónico.\nSiga el enlace a continuación para un brev
 e tutorial sobre cómo registrarse para obtener una cuenta gratuita de Zoo
 m.\nGuía de Zoom para Usuarios\n&nbsp\;
ATTACH;FMTTYPE=image/jpeg:https://fakce.org/wp-content/uploads/2015/03/KLI
 0003E.jpg
CATEGORIES:Classes,Online Classes,Support Groups,Workshops
LOCATION:Zoom\, 0000 Zoom \, San Diego\, United States
X-APPLE-STRUCTURED-LOCATION;VALUE=URI;X-ADDRESS=0000 Zoom \, San Diego\, Un
 ited States;X-APPLE-RADIUS=100;X-TITLE=Zoom:geo:0,0
END:VEVENT
BEGIN:VTIMEZONE
TZID:America/Los_Angeles
X-LIC-LOCATION:America/Los_Angeles
BEGIN:STANDARD
DTSTART:20251102T010000
TZOFFSETFROM:-0700
TZOFFSETTO:-0800
TZNAME:PST
END:STANDARD
END:VTIMEZONE
END:VCALENDAR