BEGIN:VCALENDAR
VERSION:2.0
PRODID:-//wp-events-plugin.com//7.2.3.1//EN
TZID:America/Los_Angeles
X-WR-TIMEZONE:America/Los_Angeles
BEGIN:VEVENT
UID:14167@fakce.org
DTSTART;TZID=America/Los_Angeles:20220316T180000
DTEND;TZID=America/Los_Angeles:20220316T210000
DTSTAMP:20220207T220033Z
URL:https://fakce.org/events/en-linea-disciplina-positiva-para-ninos-peque
 nos-2022-03-16/
SUMMARY:En Linea| Disciplina Positiva para Niños Pequeños
DESCRIPTION:La disciplina positiva es una forma de educar a los niños basa
 da en el respeto mutuo\, el cariño y la comprensión\, que favorece el de
 sarrollo emocional de los menores\, y refuerza los vínculos afectivos ent
 re padres e hijos. La Disciplina Positiva comienza desde temprana edad y e
 s para largo plazo. Los niños desde que nacen\, necesitan conectar con lo
 s demás\, sentir la conexión con su comunidad\, con la familia y con la 
 escuela\, cuando sienten esta conexión no tendrán la necesidad de portar
 se mal. Asista a este taller de disciplina positiva para pequeños y apren
 da técnicas para implementar tiempo fuera positivo consecuencias\, y solu
 ciones\, respeto y cooperación y mucho más.\nRegistro cerrara el Miérco
 les 16 de Marzo a las 7am\n***Por Favor Tome Nota: Esta clase se facilita
 rá en la plataforma en línea llamada Zoom. Se requiere acceso a Internet
  y acceso a una computadora / computadora portátil / tableta / teléfono 
 inteligente para asistir.\nEl enlace para assistir a esta clase se proveer
 a despues de que se registre.\nSiga el enlace a continuación para obtener
  un breve tutorial sobre cómo registrarse para obtener una cuenta de\nGui
 a de Zoom para Usuarios
ATTACH;FMTTYPE=image/jpeg:https://fakce.org/wp-content/uploads/2016/08/kid
 s-·-kids-·-kids.jpg
CATEGORIES:Classes,Online Classes,Specialty Classes
LOCATION:Zoom\, 0000 Zoom \, San Diego\, United States
X-APPLE-STRUCTURED-LOCATION;VALUE=URI;X-ADDRESS=0000 Zoom \, San Diego\, Un
 ited States;X-APPLE-RADIUS=100;X-TITLE=Zoom:geo:0,0
END:VEVENT
BEGIN:VTIMEZONE
TZID:America/Los_Angeles
X-LIC-LOCATION:America/Los_Angeles
BEGIN:DAYLIGHT
DTSTART:20220313T030000
TZOFFSETFROM:-0800
TZOFFSETTO:-0700
TZNAME:PDT
END:DAYLIGHT
END:VTIMEZONE
END:VCALENDAR