BEGIN:VCALENDAR
VERSION:2.0
PRODID:-//wp-events-plugin.com//7.2.3.1//EN
TZID:America/Los_Angeles
X-WR-TIMEZONE:America/Los_Angeles
BEGIN:VEVENT
UID:13331@fakce.org
DTSTART;TZID=America/Los_Angeles:20220114T180000
DTEND;TZID=America/Los_Angeles:20220114T210000
DTSTAMP:20211207T054951Z
URL:https://fakce.org/events/en-linea-disciplina-positiva-para-ninos-peque
 nos-2022-01-14/
SUMMARY:En Linea| Disciplina Positiva Para Niños Pequeños
DESCRIPTION:La disciplina positiva es una forma de educar a los niños bas
 ada en el respeto mutuo\, el cariño y la comprensión\, que favorece el d
 esarrollo emocional de los menores\, y refuerza los vínculos afectivos en
 tre padres e hijos. La Disciplina Positiva comienza desde temprana edad y 
 es para largo plazo. Los niños desde que nacen\, necesitan conectar con l
 os demás\, senlllr la conexión con su comunidad\, con la familia y con l
 a escuela\, cuando sienten esta conexión no tendrán la necesidad de port
 arse mal. Asista a este taller de disciplina positiva para pequeños y apr
 enda técnicas para implementar tiempo fuera positivo\, consecuencias y so
 luciones\, respeto y cooperación y mucho más.\nRegistro cerrara el Viern
 es 14 de Enero 2022 a las 7am\n***Por Favor Tome Nota: Esta clase se fac
 ilitará en la plataforma en línea llamada Zoom. Se requiere acceso a Int
 ernet y acceso a una computadora / computadora portátil / tableta / telé
 fono inteligente para asistir.\nEl enlace para assistir a esta clase se pr
 oveera despues de que se registre.\nSiga el enlace a continuación para ob
 tener un breve tutorial sobre cómo registrarse para obtener una cuenta de
 \nGuia de Zoom para Usuarios
ATTACH;FMTTYPE=image/jpeg:https://fakce.org/wp-content/uploads/2016/08/Cha
 iKids.jpg
CATEGORIES:Classes,Online Classes,Specialty Classes
LOCATION:Zoom\, 0000 Zoom \, San Diego\, United States
X-APPLE-STRUCTURED-LOCATION;VALUE=URI;X-ADDRESS=0000 Zoom \, San Diego\, Un
 ited States;X-APPLE-RADIUS=100;X-TITLE=Zoom:geo:0,0
END:VEVENT
BEGIN:VTIMEZONE
TZID:America/Los_Angeles
X-LIC-LOCATION:America/Los_Angeles
BEGIN:STANDARD
DTSTART:20211107T010000
TZOFFSETFROM:-0700
TZOFFSETTO:-0800
TZNAME:PST
END:STANDARD
END:VTIMEZONE
END:VCALENDAR