BEGIN:VCALENDAR
VERSION:2.0
PRODID:-//wp-events-plugin.com//7.2.3.1//EN
TZID:America/Los_Angeles
X-WR-TIMEZONE:America/Los_Angeles
BEGIN:VEVENT
UID:17315@fakce.org
DTSTART;TZID=America/Los_Angeles:20241209T180000
DTEND;TZID=America/Los_Angeles:20241209T210000
DTSTAMP:20241205T203837Z
URL:https://fakce.org/events/en-linea-disciplina-positiva-lo-que-hay-detra
 s-del-comportamiento-2024-12-09/
SUMMARY:En Linea | Disciplina Positiva: Lo Que Hay Detrás del Comportamien
 to
DESCRIPTION:Instructora: Heidi Blue\, MSW\nCriando con Disciplina Positiva 
 se basa en métodos de experiencia que ayudan a los padres a entrar en el 
 mundo de los niños para descubrir lo que realmente funciona y lo que no\,
  lo que los niños realmente piensan\, sienten y deciden. La Disciplina Po
 sitiva es una forma de crianza y modelo de enseñanza desarrollado por Lyn
 n Lott MA\, MFT y Jane Nelson Ed.D\, MFT. Esta clase proporcionará una in
 troducción a la Disciplina Positiva y brindará aprendizaje con experienc
 ia para padres que cuidan niños con comportamientos desafiantes. La Disci
 plina Positiva proporciona métodos para inculcar controles internos para 
 los niños mientras se les capacita a los padres cómo enseñarles habilid
 ades para la vida.\nRegistro cerrará el Lunes 9 de Diciembre 2024 a las 7
  am\n***Por Favor Tome Nota: Esta clase se facilitará en la plataforma e
 n línea llamada Zoom. Se requiere acceso a Internet y acceso a una comput
 adora / computadora portátil / tableta / teléfono inteligente para asist
 ir.\nEl enlace para asistir a esta clase se proveerá después de que se 
 registre.\nSiga el enlace a continuación para obtener un breve tutorial s
 obre cómo registrarse para obtener una cuenta de\nGuia de Zoom para Usuar
 ios
ATTACH;FMTTYPE=image/jpeg:https://fakce.org/wp-content/uploads/2021/05/Fly
 ing-Boy.jpg
CATEGORIES:Classes,Online Classes,Specialty Classes
LOCATION:Zoom\, 0000 Zoom \, San Diego\, United States
X-APPLE-STRUCTURED-LOCATION;VALUE=URI;X-ADDRESS=0000 Zoom \, San Diego\, Un
 ited States;X-APPLE-RADIUS=100;X-TITLE=Zoom:geo:0,0
END:VEVENT
BEGIN:VTIMEZONE
TZID:America/Los_Angeles
X-LIC-LOCATION:America/Los_Angeles
BEGIN:STANDARD
DTSTART:20241103T010000
TZOFFSETFROM:-0700
TZOFFSETTO:-0800
TZNAME:PST
END:STANDARD
END:VTIMEZONE
END:VCALENDAR