BEGIN:VCALENDAR
VERSION:2.0
PRODID:-//wp-events-plugin.com//7.2.3.1//EN
TZID:America/Los_Angeles
X-WR-TIMEZONE:America/Los_Angeles
BEGIN:VEVENT
UID:14254@fakce.org
DTSTART;TZID=America/Los_Angeles:20220507T090000
DTEND;TZID=America/Los_Angeles:20220507T120000
DTSTAMP:20220330T191515Z
URL:https://fakce.org/events/en-linea-disciplina-positiva-lo-que-hay-debaj
 o-del-comportamiento-2022-05-07/
SUMMARY:En Linea | Disciplina Positiva: Lo Que Hay Debajo del Comportamient
 o
DESCRIPTION:Criando con Disciplina Positiva se basa en métodos de experien
 cia que ayudan a los padres a entrar en el mundo de los niños para descub
 rir lo que realmente funciona y lo que no\, lo que los niños realmente pi
 ensan\, sienten y deciden. La Disciplina Positiva es una forma de crianza 
 y modelo de enseñanza desarrollado por Lynn Lott MA\, MFT y Jane Nelson E
 d.D\, MFT. Esta clase proporcionará una introducción a la Disciplina Pos
 itiva y brindará aprendizaje con experiencia para padres que cuidan niño
 s con comportamientos desaﬁantes. La Disciplina Positiva proporciona mé
 todos para inculcar controles internos para los niños mientras se les cap
 acita a los padres cómo enseñarles habilidades para la vida.\nRegistro c
 errara el Viernes 6 de Mayo a las 12pm\n***Por Favor Tome Nota: Esta clas
 e se facilitará en la plataforma en línea llamada Zoom. Se requiere acce
 so a Internet y acceso a una computadora / computadora portátil / tableta
  / teléfono inteligente para asistir.\nEl enlace para assistir a esta cla
 se se proveera despues de que se registre.\nSiga el enlace a continuación
  para obtener un breve tutorial sobre cómo registrarse para obtener una c
 uenta de\nGuia de Zoom para Usuarios
ATTACH;FMTTYPE=image/jpeg:https://fakce.org/wp-content/uploads/2016/08/kid
 s-·-kids-·-kids.jpg
CATEGORIES:Classes,Online Classes,Specialty Classes
LOCATION:Zoom\, 0000 Zoom \, San Diego\, United States
X-APPLE-STRUCTURED-LOCATION;VALUE=URI;X-ADDRESS=0000 Zoom \, San Diego\, Un
 ited States;X-APPLE-RADIUS=100;X-TITLE=Zoom:geo:0,0
END:VEVENT
BEGIN:VTIMEZONE
TZID:America/Los_Angeles
X-LIC-LOCATION:America/Los_Angeles
BEGIN:DAYLIGHT
DTSTART:20220313T030000
TZOFFSETFROM:-0800
TZOFFSETTO:-0700
TZNAME:PDT
END:DAYLIGHT
END:VTIMEZONE
END:VCALENDAR