BEGIN:VCALENDAR
VERSION:2.0
PRODID:-//wp-events-plugin.com//7.2.3.1//EN
TZID:America/Los_Angeles
X-WR-TIMEZONE:America/Los_Angeles
BEGIN:VEVENT
UID:17683@fakce.org
DTSTART;TZID=America/Los_Angeles:20250410T180000
DTEND;TZID=America/Los_Angeles:20250410T203000
DTSTAMP:20250216T041918Z
URL:https://fakce.org/events/en-linea-disciplina-positiva-%e2%80%90-ninos-
 pequenos-2025-04-10/
SUMMARY:En Línea | Disciplina Positiva ‐ Niños Pequeños
DESCRIPTION:Instructores: Gisella Gomez\, MSW\nDescripción: Que los partic
 ipantes aprendan cómo usar la disciplina positiva con niños pequeños us
 ando métodos fáciles\, respetuosos\, amables\, eficientes y que forman h
 ábitos para largo plazo.\n***Por Favor Tome Nota: Esta clase se llevará 
 a cabo en la plataforma Zoom. Se requiere acceso a internet y a una comput
 adora\, laptop\, tableta o teléfono inteligente para participar.\nPedimos
  amablemente a los participantes que eviten el uso de fondos virtuales que
  puedan distraer. Para mayor privacidad\, recomendamos utilizar la funció
 n de desenfoque.\nNo se permite tomar esta clase desde un vehículo.\nEl e
 nlace de Zoom para asistir a esta clase será enviado por correo electrón
 ico.\nPor favor\, siga el enlace a continuación para ver un breve tutoria
 l sobre cómo registrarse para obtener una cuenta gratuita de Zoom.\nGuia 
 de Zoom para Usuarios
ATTACH;FMTTYPE=image/jpeg:https://fakce.org/wp-content/uploads/2023/04/ist
 ockphoto-1313553003-612x612-1.jpg
CATEGORIES:Classes,Online Classes,Specialty Classes
LOCATION:Zoom\, 0000 Zoom \, San Diego\, United States
X-APPLE-STRUCTURED-LOCATION;VALUE=URI;X-ADDRESS=0000 Zoom \, San Diego\, Un
 ited States;X-APPLE-RADIUS=100;X-TITLE=Zoom:geo:0,0
END:VEVENT
BEGIN:VTIMEZONE
TZID:America/Los_Angeles
X-LIC-LOCATION:America/Los_Angeles
BEGIN:DAYLIGHT
DTSTART:20250309T030000
TZOFFSETFROM:-0800
TZOFFSETTO:-0700
TZNAME:PDT
END:DAYLIGHT
END:VTIMEZONE
END:VCALENDAR