BEGIN:VCALENDAR
VERSION:2.0
PRODID:-//wp-events-plugin.com//7.2.3.1//EN
TZID:America/Los_Angeles
X-WR-TIMEZONE:America/Los_Angeles
BEGIN:VEVENT
UID:17681@fakce.org
DTSTART;TZID=America/Los_Angeles:20250408T180000
DTEND;TZID=America/Los_Angeles:20250408T200000
DTSTAMP:20250216T040712Z
URL:https://fakce.org/events/en-linea-desarrollo-de-habilidades-para-la-vi
 da-ensenanza-de-habilidades-esenciales-para-la-vida-a-ninos-en-acogida-202
 5-04-08/
SUMMARY:En Línea | Desarrollo de Habilidades para la Vida: Enseñanza de H
 abilidades Esenciales para la Vida a Niños en Acogida
DESCRIPTION:Instructores: Representantes de Scripps Mercy Hospital’s Well
 ‐Being Center\nEsta presentación está diseñada para proporcionar a lo
 s Padres de Recursos herramientas clave para enseñar habilidades esencial
 es a los niños en su cuidado. Se cubrirán temas importantes como la elab
 oración de presupuestos\, la preparación de comidas saludables\, la gest
 ión del tiempo y la toma de decisiones responsables. El objetivo es ayuda
 r a los niños a desarrollar confianza\, independencia y habilidades prác
 ticas que les permitirán tener éxito en la vida adulta. Al finalizar la 
 sesión\, los padres adoptivos estarán mejor preparados para apoyar a los
  niños en el desarrollo de estas habilidades vitales\, asegurando una tra
 nsición exitosa hacia la vida independiente.\n***Por Favor Tome Nota: Est
 a clase se llevará a cabo en la plataforma Zoom. Se requiere acceso a int
 ernet y a una computadora\, laptop\, tableta o teléfono inteligente para 
 participar.\nPedimos amablemente a los participantes que eviten el uso de 
 fondos virtuales que puedan distraer. Para mayor privacidad\, recomendamos
  utilizar la función de desenfoque.\nNo se permite tomar esta clase desde
  un vehículo.\nEl enlace de Zoom para asistir a esta clase será enviado 
 por correo electrónico.\nPor favor\, siga el enlace a continuación para 
 ver un breve tutorial sobre cómo registrarse para obtener una cuenta grat
 uita de Zoom.\nGuia de Zoom para Usuarios
ATTACH;FMTTYPE=image/jpeg:https://fakce.org/wp-content/uploads/2023/04/ist
 ockphoto-1313553003-612x612-1.jpg
CATEGORIES:Classes,Online Classes,Specialty Classes
LOCATION:Zoom\, 0000 Zoom \, San Diego\, United States
X-APPLE-STRUCTURED-LOCATION;VALUE=URI;X-ADDRESS=0000 Zoom \, San Diego\, Un
 ited States;X-APPLE-RADIUS=100;X-TITLE=Zoom:geo:0,0
END:VEVENT
BEGIN:VTIMEZONE
TZID:America/Los_Angeles
X-LIC-LOCATION:America/Los_Angeles
BEGIN:DAYLIGHT
DTSTART:20250309T030000
TZOFFSETFROM:-0800
TZOFFSETTO:-0700
TZNAME:PDT
END:DAYLIGHT
END:VTIMEZONE
END:VCALENDAR