BEGIN:VCALENDAR
VERSION:2.0
PRODID:-//wp-events-plugin.com//7.2.3.1//EN
TZID:America/Los_Angeles
X-WR-TIMEZONE:America/Los_Angeles
BEGIN:VEVENT
UID:15598@fakce.org
DTSTART;TZID=America/Los_Angeles:20230321T180000
DTEND;TZID=America/Los_Angeles:20230321T210000
DTSTAMP:20230314T205230Z
URL:https://fakce.org/events/en-linea-criando-al-nino-que-ha-sido-abusado-
 sexualmente-2023-03-21/
SUMMARY:En Linea | Criando al Niño Que Ha Sido Abusado Sexualmente
DESCRIPTION:Criar a un niño que ha sufrido abuso sexual requiere conocimie
 ntos y habilidades especiales. Esta clase discutirá el desarrollo sexual 
 normal\, las necesidades especiales de los niños sexualizados\, el tratam
 iento\nEl registro de la clase cerrara el Martes 21 de Marzo a las 7am \n
 ***Por Favor Tome Nota:Esta clase se facilitará en la plataforma en líne
 a llamada Zoom. Se requiere acceso a Internet y acceso a una computadora /
  computadora portátil / tableta / teléfono inteligente para asistir.\nEl
  enlace para assistir a esta clase se proveera despues de que se registre.
 \nSiga el enlace a continuación para obtener un breve tutorial sobre cóm
 o registrarse para obtener una cuenta de\nGuia de Zoom para Usuarios
ATTACH;FMTTYPE=image/jpeg:https://fakce.org/wp-content/uploads/2021/05/His
 panic-Family.jpg
CATEGORIES:Specialty Classes,Workshops
LOCATION:Zoom\, 0000 Zoom \, San Diego\, United States
X-APPLE-STRUCTURED-LOCATION;VALUE=URI;X-ADDRESS=0000 Zoom \, San Diego\, Un
 ited States;X-APPLE-RADIUS=100;X-TITLE=Zoom:geo:0,0
END:VEVENT
BEGIN:VTIMEZONE
TZID:America/Los_Angeles
X-LIC-LOCATION:America/Los_Angeles
BEGIN:DAYLIGHT
DTSTART:20230312T030000
TZOFFSETFROM:-0800
TZOFFSETTO:-0700
TZNAME:PDT
END:DAYLIGHT
END:VTIMEZONE
END:VCALENDAR