BEGIN:VCALENDAR
VERSION:2.0
PRODID:-//wp-events-plugin.com//7.2.3.1//EN
TZID:America/Los_Angeles
X-WR-TIMEZONE:America/Los_Angeles
BEGIN:VEVENT
UID:17105@fakce.org
DTSTART;TZID=America/Los_Angeles:20240730T180000
DTEND;TZID=America/Los_Angeles:20240730T210000
DTSTAMP:20240530T185809Z
URL:https://fakce.org/events/en-linea-convertir-suenos-en-titulos-2024-07-
 30/
SUMMARY:En Línea | Convertir Sueños en Títulos
DESCRIPTION:Descripción: Este curso capacitará a los cuidadores de niños
 \, incluido el personal que trabaja con jóvenes y familias y familias de 
 recursos\, para discutir el valor de la educación superior con los jóven
 es bajo su cuidado y brindar ideas sobre cómo pueden desempeñar un papel
  activo en el apoyo a estos jóvenes para la universidad. Los cuidadores a
 prenderán la importancia de la exploración temprana de la universidad\, 
 la preparación y los pasos clave que pueden tomar para ayudar a los jóve
 nes a convertir sus sueños en títulos.\nRegistro cerrará el martes 30 d
 e julio 2024 a las 7 am\n***Por Favor Tome Nota: Esta clase se facilitar
 á en la plataforma en línea llamada Zoom. Se requiere acceso a Internet 
 y acceso a una computadora / computadora portátil / tableta / teléfono i
 nteligente para asistir.\nEl enlace para assistir a esta clase se proveera
  despues de que se registre.\nSiga el enlace a continuación para obtener 
 un breve tutorial sobre cómo registrarse para obtener una cuenta de\nGuia
  de Zoom para Usuarios
ATTACH;FMTTYPE=image/jpeg:https://fakce.org/wp-content/uploads/2016/08/Cha
 iKids.jpg
CATEGORIES:Classes,Online Classes,Specialty Classes
LOCATION:Zoom\, 0000 Zoom \, San Diego\, United States
X-APPLE-STRUCTURED-LOCATION;VALUE=URI;X-ADDRESS=0000 Zoom \, San Diego\, Un
 ited States;X-APPLE-RADIUS=100;X-TITLE=Zoom:geo:0,0
END:VEVENT
BEGIN:VTIMEZONE
TZID:America/Los_Angeles
X-LIC-LOCATION:America/Los_Angeles
BEGIN:DAYLIGHT
DTSTART:20240310T030000
TZOFFSETFROM:-0800
TZOFFSETTO:-0700
TZNAME:PDT
END:DAYLIGHT
END:VTIMEZONE
END:VCALENDAR