BEGIN:VCALENDAR
VERSION:2.0
PRODID:-//wp-events-plugin.com//7.2.3.1//EN
TZID:America/Los_Angeles
X-WR-TIMEZONE:America/Los_Angeles
BEGIN:VEVENT
UID:14598@fakce.org
DTSTART;TZID=America/Los_Angeles:20220719T180000
DTEND;TZID=America/Los_Angeles:20220719T200000
DTSTAMP:20220608T191654Z
URL:https://fakce.org/events/en-linea-consejos-para-mantenerse-seguros-en-
 el-agua-2022-07-19/
SUMMARY:En Linea | Consejos para Mantenerse Seguros en el Agua
DESCRIPTION:La seguridad en el agua es fundamental. Este curso proporciona 
 conciencia sobre la importancia de la seguridad en el agua y proporciona a
  los padres herramientas para garantizar un entorno acuático seguro para 
 los niños . Se compartirá información sobre las estadísticas de ahogam
 ientos y cómo prevenirlos. En general\, el curso proporcionará a los pad
 res información sobre la seguridad en el agua para sus hijos.\nRegistro c
 errara el Martes 19 de Julio\, 2022  a las 7 am\n***Por Favor Tome Nota:
  Esta clase se facilitará en la plataforma en línea llamada Zoom. Se re
 quiere acceso a Internet y acceso a una computadora / computadora portáti
 l / tableta / teléfono inteligente para asistir.\nEl enlace para assistir
  a esta clase se proveera despues de que se registre.\nSiga el enlace a co
 ntinuación para obtener un breve tutorial sobre cómo registrarse para ob
 tener una cuenta de\nGuia de Zoom para Usuarios
ATTACH;FMTTYPE=image/jpeg:https://fakce.org/wp-content/uploads/2016/03/chi
 ld-832804_1280.jpg
CATEGORIES:Classes,Online Classes,Specialty Classes
LOCATION:Zoom\, 0000 Zoom \, San Diego\, United States
X-APPLE-STRUCTURED-LOCATION;VALUE=URI;X-ADDRESS=0000 Zoom \, San Diego\, Un
 ited States;X-APPLE-RADIUS=100;X-TITLE=Zoom:geo:0,0
END:VEVENT
BEGIN:VTIMEZONE
TZID:America/Los_Angeles
X-LIC-LOCATION:America/Los_Angeles
BEGIN:DAYLIGHT
DTSTART:20220313T030000
TZOFFSETFROM:-0800
TZOFFSETTO:-0700
TZNAME:PDT
END:DAYLIGHT
END:VTIMEZONE
END:VCALENDAR