BEGIN:VCALENDAR
VERSION:2.0
PRODID:-//wp-events-plugin.com//7.2.3.1//EN
TZID:America/Los_Angeles
X-WR-TIMEZONE:America/Los_Angeles
BEGIN:VEVENT
UID:15696@fakce.org
DTSTART;TZID=America/Los_Angeles:20230531T180000
DTEND;TZID=America/Los_Angeles:20230531T210000
DTSTAMP:20230412T191905Z
URL:https://fakce.org/events/en-linea-comprendiendo-la-importancia-de-la-s
 alud-mental-2023-05-31/
SUMMARY:En Linea| Comprendiendo la Importancia de la Salud Mental
DESCRIPTION: Nuestra salud mental es muy importante\, no solo para nosotros
  como padres pero también para los niños en nuestro cuido. Salud mental 
 incluye salud emocional\, salud psicológico y salud social. La salud ment
 al afecta la forma en que pensamos\, sentimos y actuamos. Tener buena salu
 d mental ayuda a determinar cómo manejamos el estrés\, nos relacionamos 
 con los demás y como tomamos decisiones. La salud mental es importante en
  todas las etapas de la vida\, desde la niñez y la adolescencia hasta la 
 edad adulta. Únase a nosotros para obtener más información.\nRegistro c
 errara el Mi ércoles 31 de Mayo a las 7am\n***Por Favor Tome Nota: Esta 
 clase se facilitará en la plataforma en línea llamada Zoom. Se requiere 
 acceso a Internet y acceso a una computadora / computadora portátil / tab
 leta / teléfono inteligente para asistir.\nEl enlace para assistir a esta
  clase se proveera despues de que se registre.\nSiga el enlace a continuac
 ión para obtener un breve tutorial sobre cómo registrarse para obtener u
 na cuenta de\nGuia de Zoom para Usuarios
ATTACH;FMTTYPE=image/jpeg:https://fakce.org/wp-content/uploads/2016/03/leg
 s-407196_1280.jpg
CATEGORIES:Classes,Online Classes,Specialty Classes
LOCATION:Zoom\, 0000 Zoom \, San Diego\, United States
X-APPLE-STRUCTURED-LOCATION;VALUE=URI;X-ADDRESS=0000 Zoom \, San Diego\, Un
 ited States;X-APPLE-RADIUS=100;X-TITLE=Zoom:geo:0,0
END:VEVENT
BEGIN:VTIMEZONE
TZID:America/Los_Angeles
X-LIC-LOCATION:America/Los_Angeles
BEGIN:DAYLIGHT
DTSTART:20230312T030000
TZOFFSETFROM:-0800
TZOFFSETTO:-0700
TZNAME:PDT
END:DAYLIGHT
END:VTIMEZONE
END:VCALENDAR