BEGIN:VCALENDAR
VERSION:2.0
PRODID:-//wp-events-plugin.com//7.2.3.1//EN
TZID:America/Los_Angeles
X-WR-TIMEZONE:America/Los_Angeles
BEGIN:VEVENT
UID:15458@fakce.org
DTSTART;TZID=America/Los_Angeles:20230117T180000
DTEND;TZID=America/Los_Angeles:20230117T200000
DTSTAMP:20221207T223825Z
URL:https://fakce.org/events/en-linea-como-apoyar-a-los-jovenes-de-crianza
 -despues-de-la-prepa-2023-01-17/
SUMMARY:En Linea | Como Apoyar a los Jóvenes de Crianza Después de la Pre
 pa
DESCRIPTION:Descripción: Los jóvenes de crianza temporal a menudo enfrent
 an desafios únicos cuando intentan seguir una educación superior. Según
  un estudio reciente\, solo el 3 - 4% de los ex jóvenes de crianza obtien
 en un titulo universitario de 4 años y solo entre el 2 - 6% reciben un ti
 tulo de 2 - años. Los datos muestran que solo el 50% de los niños en hog
 ares de crianza temporal se graduarán de la secundaria. La meta de esta c
 lase es proporcionar a los padres adoptivos y de crianza las herramientas 
 y los recurso necesarios para apoyar a sus hijos en la búsqueda de una ed
 ucación superior.\nRegistro cerrara el Martes 17 de Enero 2023 a las 7 am
  \n&nbsp\;\n***Por Favor Tome Nota: Esta clase se facilitará en la plata
 forma en línea llamada Zoom. Se requiere acceso a Internet y acceso a una
  computadora / computadora portátil / tableta / teléfono inteligente par
 a asistir.\nEl enlace para assistir a esta clase se proveera despues de qu
 e se registre.\nSiga el enlace a continuación para obtener un breve tutor
 ial sobre cómo registrarse para obtener una cuenta de\nGuia de Zoom para 
 Usuarios
ATTACH;FMTTYPE=image/jpeg:https://fakce.org/wp-content/uploads/2016/03/gir
 l-person-human-female.jpg
CATEGORIES:Classes,Specialty Classes
LOCATION:Zoom\, 0000 Zoom \, San Diego\, United States
X-APPLE-STRUCTURED-LOCATION;VALUE=URI;X-ADDRESS=0000 Zoom \, San Diego\, Un
 ited States;X-APPLE-RADIUS=100;X-TITLE=Zoom:geo:0,0
END:VEVENT
BEGIN:VTIMEZONE
TZID:America/Los_Angeles
X-LIC-LOCATION:America/Los_Angeles
BEGIN:STANDARD
DTSTART:20221106T010000
TZOFFSETFROM:-0700
TZOFFSETTO:-0800
TZNAME:PST
END:STANDARD
END:VTIMEZONE
END:VCALENDAR