BEGIN:VCALENDAR
VERSION:2.0
PRODID:-//wp-events-plugin.com//7.2.3.1//EN
TZID:America/Los_Angeles
X-WR-TIMEZONE:America/Los_Angeles
BEGIN:VEVENT
UID:18073@fakce.org
DTSTART;TZID=America/Los_Angeles:20251209T180000
DTEND;TZID=America/Los_Angeles:20251209T200000
DTSTAMP:20251121T210305Z
URL:https://fakce.org/events/en-linea-como-afrontar-el-duelo-y-la-perdida-
 en-ninos-2025-12-09/
SUMMARY:En Línea | Cómo Afrontar el Duelo y la Pérdida en Niños
DESCRIPTION:Instructores: Representantes del Centro de Bienestar del Hospit
 al Scripps Mercy\n\nDescripción: Los niños en cuidado temporal suelen ex
 perimentar duelo por la pérdida de su familia\, hogar o rutina. Esta clas
 e enseña a los cuidadores a reconocer el duelo\, brindar apoyo adecuado s
 egún la edad y fomentar la resiliencia durante momentos de dolor emociona
 l o transición.\n***Nota importante: Esta clase se llevará a cabo a trav
 és de la plataforma Zoom.***\nSe requiere acceso a internet y a una compu
 tadora\, laptop\, tableta o teléfono inteligente para asistir.\nLe pedimo
 s amablemente a los participantes que eviten el uso de fondos virtuales qu
 e distraigan. Por privacidad\, recomendamos usar la función de desenfoque
 .\nNo se permite tomar esta clase desde un vehículo.\nEl enlace de Zoom p
 ara asistir a esta clase se enviará por correo electrónico.\nPor favor\,
  siga el siguiente enlace para ver un breve tutorial sobre cómo crear una
  cuenta gratuita en Zoom.\nZoom User Guide
ATTACH;FMTTYPE=image/jpeg:https://fakce.org/wp-content/uploads/2016/08/n-T
 ANTRUM-628x314.jpg
CATEGORIES:Classes,Online Classes,Specialty Classes
LOCATION:Zoom\, 0000 Zoom \, San Diego\, United States
X-APPLE-STRUCTURED-LOCATION;VALUE=URI;X-ADDRESS=0000 Zoom \, San Diego\, Un
 ited States;X-APPLE-RADIUS=100;X-TITLE=Zoom:geo:0,0
END:VEVENT
BEGIN:VTIMEZONE
TZID:America/Los_Angeles
X-LIC-LOCATION:America/Los_Angeles
BEGIN:STANDARD
DTSTART:20251102T010000
TZOFFSETFROM:-0700
TZOFFSETTO:-0800
TZNAME:PST
END:STANDARD
END:VTIMEZONE
END:VCALENDAR