BEGIN:VCALENDAR
VERSION:2.0
PRODID:-//wp-events-plugin.com//7.2.3.1//EN
TZID:America/Los_Angeles
X-WR-TIMEZONE:America/Los_Angeles
BEGIN:VEVENT
UID:16192@fakce.org
DTSTART;TZID=America/Los_Angeles:20260106T180000
DTEND;TZID=America/Los_Angeles:20260106T200000
DTSTAMP:20251205T043209Z
URL:https://fakce.org/events/en-linea-chula-vista-grupo-de-apoyo-redes-soc
 iales-consejos-para-padres-de-crianza-y-proveedores-de-cuidado-2026-01-06/
SUMMARY:En Linea | Chula Vista Grupo de Apoyo: Redes sociales- consejos par
 a padres de crianza y proveedores de Cuidado
DESCRIPTION:Junta cada 1er martes del mes \nLider del Grupo de Apoyo: Hili
 ana Mendoza\n\nTema: Mientras estamos conectados\, los jóvenes y los adul
 tos estamos expuestos a una gran probabilidad: Que nos acosen en el intern
 et. En tiempos de Covid\, con la escuela en‐línea se requiere mucha sup
 ervisión\, tenemos que estar alertas de los sitios que visitan nuestros h
 ijo/as\, puede haber atracciones negativas como\, proposiciones sexuales\,
  extorsiones\, bullying\, solicitación de información personal. Hay que 
 educar a nuestros hijo/as de los peligros y como usar el internet con caut
 ela.\n***Por Favor Tome Nota: Esta clase se llevará a cabo en la platafo
 rma Zoom.\nSe requiere acceso a Internet y a una computadora\, laptop\, ta
 bleta o teléfono inteligente para asistir.\nPara las reuniones de nuestro
  grupo de apoyo\, todos los participantes deben tener sus cámaras encendi
 das\, independientemente de si están buscando crédito o no. Este requisi
 to está diseñado para fomentar la plena participación y conexión entre
  los participantes\, fomentando una atmósfera de mayor apoyo dentro de nu
 estra comunidad. Tenga en cuenta que las personas que no puedan participar
  con sus cámaras encendidas no podrán unirse a las sesiones del grupo de
  apoyo.\nPedimos amablemente que los participantes eviten usar fondos virt
 uales que distraigan. Para mayor privacidad\, recomendamos usar la funció
 n de desenfoque.\nNo puede tomar esta clase desde un vehículo.\nEl enlace
  de Zoom para asistir a esta clase se enviará por correo electrónico.\nS
 iga el enlace a continuación para un breve tutorial sobre cómo registrar
 se para obtener una cuenta gratuita de Zoom.\nGuía de Zoom para Usuarios\
 n&nbsp\;
ATTACH;FMTTYPE=image/jpeg:https://fakce.org/wp-content/uploads/2015/03/KLI
 0003E.jpg
CATEGORIES:Classes,Online Classes,Support Groups,Workshops
LOCATION:Zoom\, 0000 Zoom \, San Diego\, United States
X-APPLE-STRUCTURED-LOCATION;VALUE=URI;X-ADDRESS=0000 Zoom \, San Diego\, Un
 ited States;X-APPLE-RADIUS=100;X-TITLE=Zoom:geo:0,0
END:VEVENT
BEGIN:VTIMEZONE
TZID:America/Los_Angeles
X-LIC-LOCATION:America/Los_Angeles
BEGIN:STANDARD
DTSTART:20251102T010000
TZOFFSETFROM:-0700
TZOFFSETTO:-0800
TZNAME:PST
END:STANDARD
END:VTIMEZONE
END:VCALENDAR