BEGIN:VCALENDAR
VERSION:2.0
PRODID:-//wp-events-plugin.com//7.2.3.1//EN
TZID:America/Los_Angeles
X-WR-TIMEZONE:America/Los_Angeles
BEGIN:VEVENT
UID:16194@fakce.org
DTSTART;TZID=America/Los_Angeles:20260303T180000
DTEND;TZID=America/Los_Angeles:20260303T200000
DTSTAMP:20260122T121042Z
URL:https://fakce.org/events/en-linea-chula-vista-grupo-de-apoyo-establece
 r-una-base-estable-para-la-vida-la-salud-mental-comienza-en-la-primera-inf
 ancia-2026-03-03/
SUMMARY:En Linea | Chula Vista Grupo de Apoyo: Establecer una base estable 
 para la vida: la salud mental comienza en la primera infancia
DESCRIPTION:Junta cada 1er martes del mes \nLider del Grupo de Apoyo: Hili
 ana Mendoza\n\nTema: Según la investigación\, problemas significativos d
 e salud mental pueden y ocurren en los primeros años niños. Los niños q
 ue experimentan estrés tóxico en la vida temprana pueden sufrir daños e
 n la arquitectura de su cerebro en desarrollo y aumentar la probabilidad d
 e problemas de salud mental significativos\, ya sea temprano o más adelan
 te en la vida. Únete a nosotros para aprender cómo las estrategias de pr
 evención temprana y los esfuerzos para identificar y tratar problemas eme
 rgentes de salud mental pueden ser psicológicamente beneficiosos y rentab
 les\, en lugar de tratarlos más tarde\, cuando las dificultades emocional
 es se han vuelto más graves a una edad avanzada.\n***Por Favor Tome Nota:
  Esta clase se llevará a cabo en la plataforma Zoom.\nSe requiere acceso
  a Internet y a una computadora\, laptop\, tableta o teléfono inteligente
  para asistir.\nPara las reuniones de nuestro grupo de apoyo\, todos los p
 articipantes deben tener sus cámaras encendidas\, independientemente de s
 i están buscando crédito o no. Este requisito está diseñado para fomen
 tar la plena participación y conexión entre los participantes\, fomentan
 do una atmósfera de mayor apoyo dentro de nuestra comunidad. Tenga en cue
 nta que las personas que no puedan participar con sus cámaras encendidas 
 no podrán unirse a las sesiones del grupo de apoyo.\nPedimos amablemente 
 que los participantes eviten usar fondos virtuales que distraigan. Para ma
 yor privacidad\, recomendamos usar la función de desenfoque.\nNo puede to
 mar esta clase desde un vehículo.\nEl enlace de Zoom para asistir a esta 
 clase se enviará por correo electrónico.\nSiga el enlace a continuación
  para un breve tutorial sobre cómo registrarse para obtener una cuenta gr
 atuita de Zoom.\nGuía de Zoom para Usuarios\n&nbsp\;
ATTACH;FMTTYPE=image/jpeg:https://fakce.org/wp-content/uploads/2015/03/KLI
 0003E.jpg
CATEGORIES:Classes,Online Classes,Support Groups,Workshops
LOCATION:Zoom\, 0000 Zoom \, San Diego\, United States
X-APPLE-STRUCTURED-LOCATION;VALUE=URI;X-ADDRESS=0000 Zoom \, San Diego\, Un
 ited States;X-APPLE-RADIUS=100;X-TITLE=Zoom:geo:0,0
END:VEVENT
BEGIN:VTIMEZONE
TZID:America/Los_Angeles
X-LIC-LOCATION:America/Los_Angeles
BEGIN:STANDARD
DTSTART:20251102T010000
TZOFFSETFROM:-0700
TZOFFSETTO:-0800
TZNAME:PST
END:STANDARD
END:VTIMEZONE
END:VCALENDAR