BEGIN:VCALENDAR
VERSION:2.0
PRODID:-//wp-events-plugin.com//7.2.3.1//EN
TZID:America/Los_Angeles
X-WR-TIMEZONE:America/Los_Angeles
BEGIN:VEVENT
UID:17937@fakce.org
DTSTART;TZID=America/Los_Angeles:20250930T180000
DTEND;TZID=America/Los_Angeles:20250930T210000
DTSTAMP:20250924T162558Z
URL:https://fakce.org/events/en-linea-apoyando-el-desarrollo-cerebral-en-n
 inos-traumatizados-2025-09-30/
SUMMARY:En Línea | Apoyando el Desarrollo Cerebral en Niños Traumatizados
DESCRIPTION:Instructora: Heidi Blue\, MSW\nDescripción: El desarrollo salu
 dable del cerebro es fundamental para alcanzar el máximo potencial y mant
 ener el bienestar general. En el caso de niños y jóvenes que han sufrido
  abuso\, negligencia o traumas asociados\, este desarrollo puede verse int
 errumpido\, provocando diﬁcultades funcionales. Esta clase ofrece estrat
 egias para promover un desarrollo cerebral saludable en este grupo vulnera
 ble y conecta a familias y proveedores de servicios con las intervenciones
  más efectivas y respaldadas por la evidencia.\n***Por Favor Tome Nota: E
 sta clase se llevará a cabo en la plataforma Zoom. Se requiere acceso a i
 nternet y a una computadora\, laptop\, tableta o teléfono inteligente par
 a participar.\nPedimos amablemente a los participantes que eviten el uso d
 e fondos virtuales que puedan distraer. Para mayor privacidad\, recomendam
 os utilizar la función de desenfoque.\nNo se permite tomar esta clase des
 de un vehículo.\nEl enlace de Zoom para asistir a esta clase será enviad
 o por correo electrónico.\nPor favor\, siga el enlace a continuación par
 a ver un breve tutorial sobre cómo registrarse para obtener una cuenta gr
 atuita de Zoom.\nGuia de Zoom para Usuarios
ATTACH;FMTTYPE=image/jpeg:https://fakce.org/wp-content/uploads/2023/04/ist
 ockphoto-1313553003-612x612-1.jpg
CATEGORIES:Classes,Online Classes,Specialty Classes
LOCATION:Zoom\, 0000 Zoom \, San Diego\, United States
X-APPLE-STRUCTURED-LOCATION;VALUE=URI;X-ADDRESS=0000 Zoom \, San Diego\, Un
 ited States;X-APPLE-RADIUS=100;X-TITLE=Zoom:geo:0,0
END:VEVENT
BEGIN:VTIMEZONE
TZID:America/Los_Angeles
X-LIC-LOCATION:America/Los_Angeles
BEGIN:DAYLIGHT
DTSTART:20250309T030000
TZOFFSETFROM:-0800
TZOFFSETTO:-0700
TZNAME:PDT
END:DAYLIGHT
END:VTIMEZONE
END:VCALENDAR