BEGIN:VCALENDAR
VERSION:2.0
PRODID:-//wp-events-plugin.com//7.2.3.1//EN
TZID:America/Los_Angeles
X-WR-TIMEZONE:America/Los_Angeles
BEGIN:VEVENT
UID:18070@fakce.org
DTSTART;TZID=America/Los_Angeles:20251119T180000
DTEND;TZID=America/Los_Angeles:20251119T210000
DTSTAMP:20251017T173048Z
URL:https://fakce.org/events/en-linea-adoptando-despues-de-la-infertilidad
 -2025-11-19/
SUMMARY:En Linea | Adoptando Después De La Infertilidad
DESCRIPTION:Esta clase es para parejas que están experimentando infertilid
 ad \nDescripción: Diseñado para personas con problemas de infertilidad q
 ue planean adoptar. Se analizaran temas de dolor y pérdida sobre la infer
 tilidad y se examinará cómo eso afecta a los padres por adopción.\n***N
 ota importante: Esta clase se llevará a cabo a través de la plataforma Z
 oom.***\nSe requiere acceso a internet y a una computadora\, laptop\, tabl
 eta o teléfono inteligente para asistir.\nLe pedimos amablemente a los pa
 rticipantes que eviten el uso de fondos virtuales que distraigan. Por priv
 acidad\, recomendamos usar la función de desenfoque.\nNo se permite tomar
  esta clase desde un vehículo.\nEl enlace de Zoom para asistir a esta cla
 se se enviará por correo electrónico.\nPor favor\, siga el siguiente enl
 ace para ver un breve tutorial sobre cómo crear una cuenta gratuita en Zo
 om.\nZoom User Guide
ATTACH;FMTTYPE=image/jpeg:https://fakce.org/wp-content/uploads/2015/03/000
 019040418.jpg
CATEGORIES:Adoption Classes,Classes,Online Classes
LOCATION:Zoom\, 0000 Zoom \, San Diego\, United States
X-APPLE-STRUCTURED-LOCATION;VALUE=URI;X-ADDRESS=0000 Zoom \, San Diego\, Un
 ited States;X-APPLE-RADIUS=100;X-TITLE=Zoom:geo:0,0
END:VEVENT
BEGIN:VTIMEZONE
TZID:America/Los_Angeles
X-LIC-LOCATION:America/Los_Angeles
BEGIN:STANDARD
DTSTART:20251102T010000
TZOFFSETFROM:-0700
TZOFFSETTO:-0800
TZNAME:PST
END:STANDARD
END:VTIMEZONE
END:VCALENDAR