BEGIN:VCALENDAR
VERSION:2.0
PRODID:-//wp-events-plugin.com//7.2.3.1//EN
TZID:America/Los_Angeles
X-WR-TIMEZONE:America/Los_Angeles
BEGIN:VEVENT
UID:14314@fakce.org
DTSTART;TZID=America/Los_Angeles:20220627T180000
DTEND;TZID=America/Los_Angeles:20220627T210000
DTSTAMP:20220411T225221Z
URL:https://fakce.org/events/en-linea-adopcion-un-proceso-para-toda-la-vid
 a-2022-06-27/
SUMMARY:En Linea | Adopción Un Proceso Para Toda La Vida
DESCRIPTION:Esta clase explora los distintos problemas que enfrentan las fa
 milias adoptivas a lo largo de sus vidas. Cubre cuestiones básicas\, cóm
 o hablarle a los niños tanto de sus padres biológicos como de los de ado
 pción en diferentes etapas de su desarrollo.  Se exploran temas de adopc
 ión abierta\nRegistro cerrara el Lunes 13 de Junio\, 2022 a las 7am \n**
 *Por Favor Tome Nota:Esta clase se facilitará en la plataforma en línea 
 llamada Zoom. Se requiere acceso a Internet y acceso a una computadora / c
 omputadora portátil / tableta / teléfono inteligente para asistir.\nEl e
 nlace para assistir a esta clase se proveera el dia de clase.\nSiga el enl
 ace a continuación para obtener un breve tutorial sobre cómo registrarse
  para obtener una cuenta de Zoom gratuita.\nGuía de Zoom para Usuarios
ATTACH;FMTTYPE=image/jpeg:https://fakce.org/wp-content/uploads/2015/03/119
 14415.jpg
CATEGORIES:Adoption Classes,Classes,Online Classes
LOCATION:Zoom\, 0000 Zoom \, San Diego\, United States
X-APPLE-STRUCTURED-LOCATION;VALUE=URI;X-ADDRESS=0000 Zoom \, San Diego\, Un
 ited States;X-APPLE-RADIUS=100;X-TITLE=Zoom:geo:0,0
END:VEVENT
BEGIN:VTIMEZONE
TZID:America/Los_Angeles
X-LIC-LOCATION:America/Los_Angeles
BEGIN:DAYLIGHT
DTSTART:20220313T030000
TZOFFSETFROM:-0800
TZOFFSETTO:-0700
TZNAME:PDT
END:DAYLIGHT
END:VTIMEZONE
END:VCALENDAR