BEGIN:VCALENDAR
VERSION:2.0
PRODID:-//wp-events-plugin.com//7.2.3.1//EN
TZID:America/Los_Angeles
X-WR-TIMEZONE:America/Los_Angeles
BEGIN:VEVENT
UID:13568@fakce.org
DTSTART;TZID=America/Los_Angeles:20220126T180000
DTEND;TZID=America/Los_Angeles:20220126T210000
DTSTAMP:20211207T193708Z
URL:https://fakce.org/events/en-linea-adopcion-un-proceso-para-toda-la-vid
 a-2022-01-26/
SUMMARY:En Linea | Adopción Un Proceso Para Toda La Vida
DESCRIPTION:Esta clase explora los distintos problemas que enfrentan las fa
 milias adoptivas a lo largo de sus vidas. Cubre cuestiones básicas\, cóm
 o hablarle a los niños tanto de sus padres biológicos como de los de ado
 pción en diferentes etapas de su desarrollo.  Se exploran temas de adopc
 ión abierta\nRegistracion cerrara el Miércoles 26 de Enero 2022 a las 7
 am \n***Por Favor Tome Nota: Esta clase se facilitará en la plataforma 
 en línea llamada Zoom. Se requiere acceso a Internet y acceso a una compu
 tadora / computadora portátil / tableta / teléfono inteligente para asis
 tir.\nEl enlace para assistir a esta clase se proveera despues de que se r
 egistre.\nSiga el enlace a continuación para obtener un breve tutorial so
 bre cómo registrarse para obtener una cuenta de\nGuia de Zoom para Usuari
 os
ATTACH;FMTTYPE=image/jpeg:https://fakce.org/wp-content/uploads/2015/03/726
 62196.jpg
CATEGORIES:Adoption Classes,Classes,Online Classes
LOCATION:Zoom\, 0000 Zoom \, San Diego\, United States
X-APPLE-STRUCTURED-LOCATION;VALUE=URI;X-ADDRESS=0000 Zoom \, San Diego\, Un
 ited States;X-APPLE-RADIUS=100;X-TITLE=Zoom:geo:0,0
END:VEVENT
BEGIN:VTIMEZONE
TZID:America/Los_Angeles
X-LIC-LOCATION:America/Los_Angeles
BEGIN:STANDARD
DTSTART:20211107T010000
TZOFFSETFROM:-0700
TZOFFSETTO:-0800
TZNAME:PST
END:STANDARD
END:VTIMEZONE
END:VCALENDAR