BEGIN:VCALENDAR
VERSION:2.0
PRODID:-//wp-events-plugin.com//7.2.3.1//EN
TZID:America/Los_Angeles
X-WR-TIMEZONE:America/Los_Angeles
BEGIN:VEVENT
UID:14870@fakce.org
DTSTART;TZID=America/Los_Angeles:20230301T180000
DTEND;TZID=America/Los_Angeles:20230301T210000
DTSTAMP:20221102T212257Z
URL:https://fakce.org/events/en-linea-adopcion-por-parientes-2023-03-01/
SUMMARY:En Linea | Adopción Por Parientes
DESCRIPTION:Diseñado para quienes están adoptando a un niño de un parien
 te\nExplora los cambios de vida\, cambio de personalidad y las relaciones 
 con los padres biológicos que son parientes. Se examinarán los recursos 
 en la comunidad para los cuidadores de parientes\nRegistracion cerrara el 
 Miércoles 1 de Marzo\, 2023 a las 7am \n***Por Favor Tome Nota: Esta cl
 ase se facilitará en la plataforma en línea llamada Zoom. Se requiere ac
 ceso a Internet y acceso a una computadora / computadora portátil / table
 ta / teléfono inteligente para asistir.\nEl enlace para assistir a esta c
 lase se proveera despues de que se registre.\nSiga el enlace a continuaci
 ón para obtener un breve tutorial sobre cómo registrarse para obtener un
 a cuenta de\nGuia de Zoom para Usuarios
ATTACH;FMTTYPE=image/jpeg:https://fakce.org/wp-content/uploads/2015/03/726
 62196.jpg
CATEGORIES:Adoption Classes,Classes,Online Classes
LOCATION:Zoom\, 0000 Zoom \, San Diego\, United States
X-APPLE-STRUCTURED-LOCATION;VALUE=URI;X-ADDRESS=0000 Zoom \, San Diego\, Un
 ited States;X-APPLE-RADIUS=100;X-TITLE=Zoom:geo:0,0
END:VEVENT
BEGIN:VTIMEZONE
TZID:America/Los_Angeles
X-LIC-LOCATION:America/Los_Angeles
BEGIN:STANDARD
DTSTART:20221106T010000
TZOFFSETFROM:-0700
TZOFFSETTO:-0800
TZNAME:PST
END:STANDARD
END:VTIMEZONE
END:VCALENDAR