BEGIN:VCALENDAR
VERSION:2.0
PRODID:-//wp-events-plugin.com//7.2.3.1//EN
TZID:America/Los_Angeles
X-WR-TIMEZONE:America/Los_Angeles
BEGIN:VEVENT
UID:14475@fakce.org
DTSTART;TZID=America/Los_Angeles:20221214T180000
DTEND;TZID=America/Los_Angeles:20221214T210000
DTSTAMP:20220516T204611Z
URL:https://fakce.org/events/en-linea-adopcion-por-parientes-2022-12-14/
SUMMARY:En Linea | Adopción Por Parientes
DESCRIPTION:Diseñado para quienes están adoptando a un niño de un parien
 te\nExplora los cambios de vida\, cambio de personalidad y las relaciones 
 con los padres biológicos que son parientes. Se examinarán los recursos 
 en la comunidad para los cuidadores de parientes\nRegistracion cerrara el 
 Miércoles 14 de Diciembre\, 2022 a las 7am \n***Por Favor Tome Nota: Es
 ta clase se facilitará en la plataforma en línea llamada Zoom. Se requie
 re acceso a Internet y acceso a una computadora / computadora portátil / 
 tableta / teléfono inteligente para asistir.\nEl enlace para assistir a e
 sta clase se proveera despues de que se registre.\nSiga el enlace a contin
 uación para obtener un breve tutorial sobre cómo registrarse para obtene
 r una cuenta de\nGuia de Zoom para Usuarios
ATTACH;FMTTYPE=image/jpeg:https://fakce.org/wp-content/uploads/2015/03/726
 62196.jpg
CATEGORIES:Adoption Classes,Classes,Online Classes
LOCATION:Zoom\, 0000 Zoom \, San Diego\, United States
X-APPLE-STRUCTURED-LOCATION;VALUE=URI;X-ADDRESS=0000 Zoom \, San Diego\, Un
 ited States;X-APPLE-RADIUS=100;X-TITLE=Zoom:geo:0,0
END:VEVENT
BEGIN:VTIMEZONE
TZID:America/Los_Angeles
X-LIC-LOCATION:America/Los_Angeles
BEGIN:STANDARD
DTSTART:20221106T010000
TZOFFSETFROM:-0700
TZOFFSETTO:-0800
TZNAME:PST
END:STANDARD
END:VTIMEZONE
END:VCALENDAR