BEGIN:VCALENDAR
VERSION:2.0
PRODID:-//wp-events-plugin.com//7.2.3.1//EN
TZID:America/Los_Angeles
X-WR-TIMEZONE:America/Los_Angeles
BEGIN:VEVENT
UID:14250@fakce.org
DTSTART;TZID=America/Los_Angeles:20220502T180000
DTEND;TZID=America/Los_Angeles:20220502T210000
DTSTAMP:20220330T174541Z
URL:https://fakce.org/events/en-linea-adopcion-por-parientes-2022-05-02/
SUMMARY:En Linea | Adopción Por Parientes
DESCRIPTION:Diseñado para quienes están adoptando a un niño de un parien
 te\nExplora los cambios de vida\, cambio de personalidad y las relaciones 
 con los padres biológicos que son parientes. Se examinarán los recursos 
 en la comunidad para los cuidadores de parientes\nRegistracion cerrara el 
 Lunes 2 de Mayo a las 7am \n***Por Favor Tome Nota: Esta clase se facili
 tará en la plataforma en línea llamada Zoom. Se requiere acceso a Intern
 et y acceso a una computadora / computadora portátil / tableta / teléfon
 o inteligente para asistir.\nEl enlace para assistir a esta clase se prove
 era despues de que se registre.\nSiga el enlace a continuación para obten
 er un breve tutorial sobre cómo registrarse para obtener una cuenta de\nG
 uia de Zoom para Usuarios
ATTACH;FMTTYPE=image/jpeg:https://fakce.org/wp-content/uploads/2015/03/726
 62196.jpg
CATEGORIES:Adoption Classes,Classes,Online Classes
LOCATION:Zoom\, 0000 Zoom \, San Diego\, United States
X-APPLE-STRUCTURED-LOCATION;VALUE=URI;X-ADDRESS=0000 Zoom \, San Diego\, Un
 ited States;X-APPLE-RADIUS=100;X-TITLE=Zoom:geo:0,0
END:VEVENT
BEGIN:VTIMEZONE
TZID:America/Los_Angeles
X-LIC-LOCATION:America/Los_Angeles
BEGIN:DAYLIGHT
DTSTART:20220313T030000
TZOFFSETFROM:-0800
TZOFFSETTO:-0700
TZNAME:PDT
END:DAYLIGHT
END:VTIMEZONE
END:VCALENDAR