BEGIN:VCALENDAR
VERSION:2.0
PRODID:-//wp-events-plugin.com//7.2.3.1//EN
TZID:America/Los_Angeles
X-WR-TIMEZONE:America/Los_Angeles
BEGIN:VEVENT
UID:17322@fakce.org
DTSTART;TZID=America/Los_Angeles:20241217T180000
DTEND;TZID=America/Los_Angeles:20241217T200000
DTSTAMP:20241212T190334Z
URL:https://fakce.org/events/en-linea-acceso-a-servicios-de-salud-mental-y
 -conductual-2024-12-17/
SUMMARY:En Línea | Acceso a Servicios de Salud Mental y Conductual
DESCRIPTION:Instructores: Representantes de Scripps Mercy Hospital’s Well
 ‐Being Center\nEn un mundo donde la salud mental es cada vez más recono
 cida como un componente crucial del bienestar general\, acceder a los serv
 icios adecuados es fundamental. Únase a nosotros para una presentación e
 sclarecedora sobre cómo navegar el complejo panorama de los servicios de 
 salud mental y del comportamiento. Descubra estrategias prácticas para su
 perar barreras\, encontrar atención adecuada y fomentar un entorno de apo
 yo para el bienestar mental. Ya sea que esté buscando ayuda para usted mi
 smo o para un ser querido\, esta sesión ofrece información invaluable so
 bre cómo acceder a los recursos que necesita para prosperar.\nRegistro ce
 rrará el Martes 17 de Diciembre 2024 a las 7am \n***Por Favor Tome Nota:
  Esta clase se facilitará en la plataforma en línea llamada Zoom. Se re
 quiere acceso a Internet y acceso a una computadora / computadora portáti
 l / tableta / teléfono inteligente para asistir.\nEl enlace para asistir 
 a esta clase se proveerá después de que se registre.\nSiga el enlace a c
 ontinuación para obtener un breve tutorial sobre cómo registrarse para o
 btener una cuenta de\nGuia de Zoom para Usuarios
ATTACH;FMTTYPE=image/jpeg:https://fakce.org/wp-content/uploads/2023/04/ist
 ockphoto-1313553003-612x612-1.jpg
CATEGORIES:Classes,Online Classes,Specialty Classes
LOCATION:Zoom\, 0000 Zoom \, San Diego\, United States
X-APPLE-STRUCTURED-LOCATION;VALUE=URI;X-ADDRESS=0000 Zoom \, San Diego\, Un
 ited States;X-APPLE-RADIUS=100;X-TITLE=Zoom:geo:0,0
END:VEVENT
BEGIN:VTIMEZONE
TZID:America/Los_Angeles
X-LIC-LOCATION:America/Los_Angeles
BEGIN:STANDARD
DTSTART:20241103T010000
TZOFFSETFROM:-0700
TZOFFSETTO:-0800
TZNAME:PST
END:STANDARD
END:VTIMEZONE
END:VCALENDAR