BEGIN:VCALENDAR
VERSION:2.0
PRODID:-//wp-events-plugin.com//7.2.3.1//EN
TZID:America/Los_Angeles
X-WR-TIMEZONE:America/Los_Angeles
BEGIN:VEVENT
UID:15619@fakce.org
DTSTART;TZID=America/Los_Angeles:20230419T180000
DTEND;TZID=America/Los_Angeles:20230419T210000
DTSTAMP:20230216T000246Z
URL:https://fakce.org/events/en-linea-abrazando-la-herencia-de-su-hijo-a-2
 023-04-19/
SUMMARY:En Linea | Abrazando la Herencia de Su Hijo/a
DESCRIPTION:Esta clase es especialmente relevante para aquellos que planean
  adoptar niños de otras culturas\, esta clase ampliara su conocimiento so
 bre las razas como un problema constante del desarrollo del individuo y co
 mo parte de una adopción.\nRegistro cerrara el Miercoles 19 de Abril\, 20
 23 a las 7 am\n***Por Favor Tome Nota: Esta clase se facilitará en la pl
 ataforma en línea llamada Zoom. Se requiere acceso a Internet y acceso a 
 una computadora / computadora portátil / tableta / teléfono inteligente 
 para asistir.\nEl enlace para assistir a esta clase se proveera despues de
  que se registre.\nSiga el enlace a continuación para obtener un breve tu
 torial sobre cómo registrarse para obtener una cuenta de\nGuia de Zoom pa
 ra Usuarios
ATTACH;FMTTYPE=image/jpeg:https://fakce.org/wp-content/uploads/2015/03/CHI
 0023E.jpg
CATEGORIES:Adoption Classes,Classes,Online Classes
LOCATION:Zoom\, 0000 Zoom \, San Diego\, United States
X-APPLE-STRUCTURED-LOCATION;VALUE=URI;X-ADDRESS=0000 Zoom \, San Diego\, Un
 ited States;X-APPLE-RADIUS=100;X-TITLE=Zoom:geo:0,0
END:VEVENT
BEGIN:VTIMEZONE
TZID:America/Los_Angeles
X-LIC-LOCATION:America/Los_Angeles
BEGIN:DAYLIGHT
DTSTART:20230312T030000
TZOFFSETFROM:-0800
TZOFFSETTO:-0700
TZNAME:PDT
END:DAYLIGHT
END:VTIMEZONE
END:VCALENDAR