BEGIN:VCALENDAR
VERSION:2.0
PRODID:-//wp-events-plugin.com//7.2.3.1//EN
TZID:America/Los_Angeles
X-WR-TIMEZONE:America/Los_Angeles
BEGIN:VEVENT
UID:14859@fakce.org
DTSTART;TZID=America/Los_Angeles:20230126T180000
DTEND;TZID=America/Los_Angeles:20230126T210000
DTSTAMP:20221102T205350Z
URL:https://fakce.org/events/en-linea-abrazando-la-herencia-de-su-hijo-a-2
 023-01-26/
SUMMARY:En Linea | Abrazando la Herencia de Su Hijo/a
DESCRIPTION:Esta clase es especialmente relevante para aquellos que planean
  adoptar niños de otras culturas\, esta clase ampliara su conocimiento so
 bre las razas como un problema constante del desarrollo del individuo y co
 mo parte de una adopción.\nRegistro cerrara el Jueves 26 de Enero\, 2023 
 a las 7 am\n***Por Favor Tome Nota: Esta clase se facilitará en la plata
 forma en línea llamada Zoom. Se requiere acceso a Internet y acceso a una
  computadora / computadora portátil / tableta / teléfono inteligente par
 a asistir.\nEl enlace para assistir a esta clase se proveera despues de qu
 e se registre.\nSiga el enlace a continuación para obtener un breve tutor
 ial sobre cómo registrarse para obtener una cuenta de\nGuia de Zoom para 
 Usuarios
ATTACH;FMTTYPE=image/jpeg:https://fakce.org/wp-content/uploads/2015/03/CHI
 0023E.jpg
CATEGORIES:Adoption Classes,Classes,Online Classes
LOCATION:Zoom\, 0000 Zoom \, San Diego\, United States
X-APPLE-STRUCTURED-LOCATION;VALUE=URI;X-ADDRESS=0000 Zoom \, San Diego\, Un
 ited States;X-APPLE-RADIUS=100;X-TITLE=Zoom:geo:0,0
END:VEVENT
BEGIN:VTIMEZONE
TZID:America/Los_Angeles
X-LIC-LOCATION:America/Los_Angeles
BEGIN:STANDARD
DTSTART:20221106T010000
TZOFFSETFROM:-0700
TZOFFSETTO:-0800
TZNAME:PST
END:STANDARD
END:VTIMEZONE
END:VCALENDAR