BEGIN:VCALENDAR
VERSION:2.0
PRODID:-//wp-events-plugin.com//7.2.3.1//EN
TZID:America/Los_Angeles
X-WR-TIMEZONE:America/Los_Angeles
BEGIN:VEVENT
UID:14293@fakce.org
DTSTART;TZID=America/Los_Angeles:20220610T180000
DTEND;TZID=America/Los_Angeles:20220610T210000
DTSTAMP:20220609T220936Z
URL:https://fakce.org/events/en-linea-10-cosas-que-todos-los-ninos-con-aut
 ismo-desean-que-los-padres-supieran-2022-06-10/
SUMMARY:En Linea| 10 Cosas Que Todos Los Niños con Autismo Desean que Los 
 Padres Supieran
DESCRIPTION:Únase a Michelle McGowan\, defensora de la educación especial
  y madre adoptiva con 3 hijos pequeños\, 2 con el espectro autista mientr
 as comparte historias personales de las pruebas y el triunfo de criar niñ
 os con autismo Espectro. Esta clase lo iluminará y empoderará mientras b
 usca encontrar las mejores terapias\, apoyos comunitarios y una mejor comp
 rensión de las diversas necesidades de los niños con el espectro del aut
 ismo.\nRegistro cerrara el Jueves 9 de Junio a las 12 pm\n***Por Favor Tom
 e Nota: Esta clase se facilitará en la plataforma en línea llamada Zoom
 . Se requiere acceso a Internet y acceso a una computadora / computadora p
 ortátil / tableta / teléfono inteligente para asistir.\nEl enlace para a
 ssistir a esta clase se proveera despues de que se registre.\nSiga el enla
 ce a continuación para obtener un breve tutorial sobre cómo registrarse 
 para obtener una cuenta de\nGuia de Zoom para Usuarios
ATTACH;FMTTYPE=image/jpeg:https://fakce.org/wp-content/uploads/2015/12/gir
 l-676185_1280.jpg
CATEGORIES:Classes,Online Classes,Specialty Classes
LOCATION:Zoom\, 0000 Zoom \, San Diego\, United States
X-APPLE-STRUCTURED-LOCATION;VALUE=URI;X-ADDRESS=0000 Zoom \, San Diego\, Un
 ited States;X-APPLE-RADIUS=100;X-TITLE=Zoom:geo:0,0
END:VEVENT
BEGIN:VTIMEZONE
TZID:America/Los_Angeles
X-LIC-LOCATION:America/Los_Angeles
BEGIN:DAYLIGHT
DTSTART:20220313T030000
TZOFFSETFROM:-0800
TZOFFSETTO:-0700
TZNAME:PDT
END:DAYLIGHT
END:VTIMEZONE
END:VCALENDAR