BEGIN:VCALENDAR
VERSION:2.0
PRODID:-//wp-events-plugin.com//7.2.3.1//EN
TZID:America/Los_Angeles
X-WR-TIMEZONE:America/Los_Angeles
BEGIN:VEVENT
UID:16328@fakce.org
DTSTART;TZID=America/Los_Angeles:20240306T180000
DTEND;TZID=America/Los_Angeles:20240306T200000
DTSTAMP:20241215T093227Z
URL:https://fakce.org/events/el-cajon-evening-support-group-2-2024-03-06/
SUMMARY:Online | San Diego Foster Parent Association (SDFPA)-Support Group
DESCRIPTION:Meets every 1st Thursday of each month\n***No meetings in July\
 , November\, and December***\nLeader: MaryJo Meer\nRegistration will close
  on Thursday\, \n***Please Note: This class will be facilitated on the Zo
 om platform.\n Internet access and access to a computer/laptop/tablet/smar
 tphone is required to attend.\nFor our support group meetings\, all partic
 ipants must have their cameras on\, regardless of whether they are seekin
 g credit or not. This requirement is designed to encourage full engagement
  and connection among participants\, fostering a more supportive atmospher
 e within our community. Please note that individuals unable to participate
  with their cameras on will not be able to join the support group sessions
 .\nWe kindly request that participants avoid using distracting virtual bac
 kgrounds. For privacy\, we recommend using the blur feature instead.\nYou 
 cannot take this class in a vehicle.\nThe link to attend this class will b
 e provided via email.\nPlease follow the link below for a brief tutorial o
 n how to sign up for a free Zoom account.\nZoom User Guide
ATTACH;FMTTYPE=image/jpeg:https://fakce.org/wp-content/uploads/2015/03/CAP
 0034D.jpg
CATEGORIES:Support Groups
LOCATION:Zoom\, 0000 Zoom \, San Diego\, United States
X-APPLE-STRUCTURED-LOCATION;VALUE=URI;X-ADDRESS=0000 Zoom \, San Diego\, Un
 ited States;X-APPLE-RADIUS=100;X-TITLE=Zoom:geo:0,0
END:VEVENT
BEGIN:VTIMEZONE
TZID:America/Los_Angeles
X-LIC-LOCATION:America/Los_Angeles
BEGIN:STANDARD
DTSTART:20231105T010000
TZOFFSETFROM:-0700
TZOFFSETTO:-0800
TZNAME:PST
END:STANDARD
END:VTIMEZONE
END:VCALENDAR