BEGIN:VCALENDAR
VERSION:2.0
PRODID:-//wp-events-plugin.com//7.2.3.1//EN
TZID:America/Los_Angeles
X-WR-TIMEZONE:America/Los_Angeles
BEGIN:VEVENT
UID:16948@fakce.org
DTSTART;TZID=America/Los_Angeles:20240408T180000
DTEND;TZID=America/Los_Angeles:20240417T210000
DTSTAMP:20240223T203347Z
URL:https://fakce.org/events/class-tips-class-729z-en-espanol-2024-04-08/
SUMMARY:Class | TIPS: Class 729Z (En Español)
DESCRIPTION:Tips es el programa de formación inicial de 12 horas que se re
 quiere antes de ser aprobado como un padre de recurso por el Condado de Sa
 n Diego. El entrenamiento de TIPS consiste de 4 sesiones de entrenamiento 
 de 3 horas cada una.\n\nSe está registrando para Clase 729Z. Las fechas p
 ara cada una de las sesiones son:\n\nSesión #1| lunes\,  abril 08\, 2024
 \nSesión #2| miercoles\, abril 10\, 2024\nSesión #3| lunes\, abril 15\, 
 2024\nSesión #4| miercoles\, abril 17\, 2024\n\nRecibirá una confirmaci
 ón de su registración por correo electrónico (email). El email le propo
 rcionará la primera fecha de la clase\, así como la hora y el lugar. Las
  fechas para las sesiones 2\, 3 y 4\, no se proporcionarán. Favor de toma
 r nota de las fechas ahora. En caso de que necesite ver las fechas de las 
 sesiones en el futuro\, se pueden encontrar entrando a la página de FAKCE
  en el internet\, seleccionando y bajando a la página de horarios de la c
 lase de TIPS. Si necesita ayuda\, favor de llamar a nuestra oficina al 1-8
 00-200-1222.\nEl registro de la clase cerrara el lunes\, abril 8\, 2024 a 
 las 7am\n***Por Favor Tome Nota:Esta clase se facilitará en la plataforma
  en línea llamada Zoom. Se requiere acceso a Internet y acceso a una comp
 utadora / computadora portátil / tableta / teléfono inteligente para asi
 stir.\nEl enlace para assistir a esta clase se proveera despues de que se 
 registre.\nSiga el enlace a continuación para obtener un breve tutorial s
 obre cómo registrarse para obtener una cuenta de\nGuia de Zoom para Usuar
 ios\n
ATTACH;FMTTYPE=image/jpeg:https://fakce.org/wp-content/uploads/2015/04/thL
 BAFS5YQ.jpg
CATEGORIES:Online Classes,TIPS Classes,TIPS Sessions
LOCATION:Zoom\, 0000 Zoom \, San Diego\, United States
X-APPLE-STRUCTURED-LOCATION;VALUE=URI;X-ADDRESS=0000 Zoom \, San Diego\, Un
 ited States;X-APPLE-RADIUS=100;X-TITLE=Zoom:geo:0,0
END:VEVENT
BEGIN:VTIMEZONE
TZID:America/Los_Angeles
X-LIC-LOCATION:America/Los_Angeles
BEGIN:DAYLIGHT
DTSTART:20240310T030000
TZOFFSETFROM:-0800
TZOFFSETTO:-0700
TZNAME:PDT
END:DAYLIGHT
END:VTIMEZONE
END:VCALENDAR