BEGIN:VCALENDAR
VERSION:2.0
PRODID:-//wp-events-plugin.com//7.2.3.1//EN
TZID:America/Los_Angeles
X-WR-TIMEZONE:America/Los_Angeles
BEGIN:VEVENT
UID:16841@fakce.org
DTSTART;TZID=America/Los_Angeles:20240326T180000
DTEND;TZID=America/Los_Angeles:20240404T210000
DTSTAMP:20240322T110329Z
URL:https://fakce.org/events/cancelled-tips-725z-2024-03-26/
SUMMARY:Cancelled | TIPS #725Z
DESCRIPTION:*This Series Has Been Cancelled*\nTIPS is the 12-hour pre-servi
 ce training program that is required prior to being approved as a Resource
  Parent by the County of San Diego.  The TIPS training consists of 4\, 3-
 hour training sessions.\n\nYou are registering for Class 725Z. The dates f
 or each of the 4 sessions are as follows:\n\nSession # 1 | Tuesday\, March
  26\, 2024\nSession # 2 | Thursday\, March 28\, 2024\nSession # 3 | Tuesda
 y\, April 2\, 2024\nSession # 4 | Thursday\, April 4\, 2024\n\nYou will re
 ceive a confirmation of your registration by email.  The email will provi
 de you with the first date of the class\, as well as the time and location
 . The dates for sessions 2\, 3\, and 4 will not be provided.  Please make
  note of those dates or reference the main TIPS page\n***Please Note: This
  TIPS class will be facilitated on the online platform called Zoom. Intern
 et access and access to a computer/laptop/tablet/smartphone is required to
  attend.\nThe link to attend this class will be provided at registration.\
 nPlease follow the link below for a brief tutorial on how to sign up for a
  free Zoom account.\nZoom User Guide
ATTACH;FMTTYPE=image/jpeg:https://fakce.org/wp-content/uploads/2016/08/kid
 s-·-kids-·-kids.jpg
CATEGORIES:Classes,Online Classes,TIPS Classes,TIPS Sessions
LOCATION:Zoom\, 0000 Zoom \, San Diego\, United States
X-APPLE-STRUCTURED-LOCATION;VALUE=URI;X-ADDRESS=0000 Zoom \, San Diego\, Un
 ited States;X-APPLE-RADIUS=100;X-TITLE=Zoom:geo:0,0
END:VEVENT
BEGIN:VTIMEZONE
TZID:America/Los_Angeles
X-LIC-LOCATION:America/Los_Angeles
BEGIN:DAYLIGHT
DTSTART:20240310T030000
TZOFFSETFROM:-0800
TZOFFSETTO:-0700
TZNAME:PDT
END:DAYLIGHT
END:VTIMEZONE
END:VCALENDAR