BEGIN:VCALENDAR
VERSION:2.0
PRODID:-//wp-events-plugin.com//7.2.3.1//EN
TZID:America/Los_Angeles
X-WR-TIMEZONE:America/Los_Angeles
BEGIN:VEVENT
UID:18461@fakce.org
DTSTART;TZID=America/Los_Angeles:20260114T093000
DTEND;TZID=America/Los_Angeles:20260114T123000
DTSTAMP:20260113T230619Z
URL:https://fakce.org/events/cancelled-from-trauma-to-triumph-a-resource-p
 arents-journey-through-the-7-core-issues-with-allison-davis-maxon-part-1-2
 026-01-14/
SUMMARY:Cancelled | From Trauma to Triumph: A Resource Parents Journey Thro
 ugh The 7 Core Issues with Allison Davis Maxon - Part 1
DESCRIPTION:Instructor: Allison Davis Maxon\, LMFT\nAbout: Allison Davis Ma
 xon is a nationally recognized expert in Complex Developmental Trauma and 
 children’s mental health specializing in Attachment and Permanency/Adopt
 ion. She is a mother\, a trauma therapist and an author/lecturer. Join All
 ison for a journey into the emotional demands and challenges parents exper
 ience as they attach and parent children and teens with core losses and de
 velopmental trauma. The series will use The Seven Core Issues Workbook for
  Parents of Traumatized Children and Teens: A Guide to Help You Explore Fe
 elings and Overcome Emotional Challenges in Your Family.\n\n&nbsp\;\n\n&nb
 sp\;\nWe Cannot Heal What We Cannot Acknowledge!\nParents bring their own 
 childhood histories of attachment and emotional adversity into the intimat
 e attachment dance between themselves and their child. JOIN US for this po
 werful series where parents will gain insight\, self-awareness\, and tools
  to deepen their self-reflective process and strengthen emotional regulati
 on. Your child’s healing is deeply connected to your own healing. Guided
  by Allison\, embark on a journey into parental identity and discover stra
 tegies to heal your inner narrative and enhance the attachment relationshi
 p between you and your child or teen.\n\nSeries of  7 Wednesday's \n\n 	S
 ession 2: Rejection | Wednesday\, February 11\, 2026 \n 	Session 3: Shame
  and Guilt| Wednesday\, March 4\, 2026\n 	Session 4: Grief | Wednesday\, M
 arch 18\, 2026\n 	Session 5: Identity | Wednesday\, April 15\, 2026\n 	Ses
 sion 6: Intimacy | Wednesday\, May 6\, 2026\n 	Session 7: Mastery &amp\; C
 ontrol | Wednesday\, May 20\, 2026\n\n**Important Registration Notice**Whe
 n you register for a class that is part of a series\, you will be automati
 cally registered for all future sessions in that series.\nHowever\, to rec
 eive email or text reminders for each session\, you must register separate
 ly for each individual workshop.\n&nbsp\;\nIf you plan on joining us for P
 art 2\, please click here to register. \n&nbsp\;\n\n&nbsp\;\n***Please No
 te: This class will be facilitated on the Zoom platform.\nInternet access 
 and access to a computer/laptop/tablet/smartphone is required to attend.\n
 We kindly request that participants avoid using distracting virtual backgr
 ounds. For privacy\, we recommend using the blur feature instead.\nYou can
 not take this class in a vehicle.\nThe Zoom link to attend this class will
  be provided via email.\nPlease follow the link below for a brief tutorial
  on how to sign up for a free Zoom account.\nZoom User Guide
ATTACH;FMTTYPE=image/jpeg:https://fakce.org/wp-content/uploads/2024/11/ima
 ge-dec-2022.jpeg
CATEGORIES:Classes,Online Classes,Specialty Classes
LOCATION:Zoom\, 0000 Zoom \, San Diego\, United States
X-APPLE-STRUCTURED-LOCATION;VALUE=URI;X-ADDRESS=0000 Zoom \, San Diego\, Un
 ited States;X-APPLE-RADIUS=100;X-TITLE=Zoom:geo:0,0
END:VEVENT
BEGIN:VTIMEZONE
TZID:America/Los_Angeles
X-LIC-LOCATION:America/Los_Angeles
BEGIN:STANDARD
DTSTART:20251102T010000
TZOFFSETFROM:-0700
TZOFFSETTO:-0800
TZNAME:PST
END:STANDARD
END:VTIMEZONE
END:VCALENDAR