BEGIN:VCALENDAR
VERSION:2.0
PRODID:-//wp-events-plugin.com//7.2.3.1//EN
TZID:America/Los_Angeles
X-WR-TIMEZONE:America/Los_Angeles
BEGIN:VEVENT
UID:17713@fakce.org
DTSTART;TZID=America/Los_Angeles:20250501T180000
DTEND;TZID=America/Los_Angeles:20250513T210000
DTSTAMP:20250429T003550Z
URL:https://fakce.org/events/canceled-tips-848z-2025-05-01/
SUMMARY:Canceled | TIPS #848Z
DESCRIPTION:**This Class has been Canceled**\n&nbsp\;\n\nTIPS is the 12-hou
 r pre-service training program that is required prior to being approved as
  a Resource Parent by the County of San Diego.  The TIPS training consist
 s of 4\, 3-hour training sessions.\n\nYou are registering for Class 848z. 
 The dates for each of the 4 sessions are as follows:\n\nSession # 1 | Thur
 sday\, May 01\, 2025\nSession # 2 | Tuesday\, May 06\, 2025\nSession # 3 |
  Thursday\, May 08\, 2025\nSession # 4 | Tuesday\, May 13\, 2025\n\nYou wi
 ll receive an email confirmation of your registration. The email will pro
 vide you with the first date of the class\, as well as the time and locati
 on. The dates for sessions 2\, 3\, and 4 will not be provided. Please ma
 ke a note of those dates or reference the main TIPS page- Click here.\n**
 *Please Note: This TIPS class will be facilitated on the Zoom platform.\n
 Internet access and access to a computer/laptop/tablet/smartphone is requi
 red to attend.\nVirtual Backgrounds are not permitted in our Zoom meetings
 \, however\, blurred backgrounds are acceptable.\nYou cannot take this cla
 ss in a vehicle.\nThe Zoom link to attend this class will be provided via 
 email.\nPlease follow the link below for a brief tutorial on how to sign u
 p for a free Zoom account.\nZoom User Guide
ATTACH;FMTTYPE=image/jpeg:https://fakce.org/wp-content/uploads/2016/08/kid
 s-·-kids-·-kids.jpg
CATEGORIES:Classes,Online Classes,TIPS Classes,TIPS Sessions
LOCATION:Zoom\, 0000 Zoom \, San Diego\, United States
X-APPLE-STRUCTURED-LOCATION;VALUE=URI;X-ADDRESS=0000 Zoom \, San Diego\, Un
 ited States;X-APPLE-RADIUS=100;X-TITLE=Zoom:geo:0,0
END:VEVENT
BEGIN:VTIMEZONE
TZID:America/Los_Angeles
X-LIC-LOCATION:America/Los_Angeles
BEGIN:DAYLIGHT
DTSTART:20250309T030000
TZOFFSETFROM:-0800
TZOFFSETTO:-0700
TZNAME:PDT
END:DAYLIGHT
END:VTIMEZONE
END:VCALENDAR