BEGIN:VCALENDAR
VERSION:2.0
PRODID:-//wp-events-plugin.com//7.2.3.1//EN
TZID:America/Los_Angeles
X-WR-TIMEZONE:America/Los_Angeles
BEGIN:VEVENT
UID:17674@fakce.org
DTSTART;TZID=America/Los_Angeles:20250401T180000
DTEND;TZID=America/Los_Angeles:20250410T210000
DTSTAMP:20250331T103231Z
URL:https://fakce.org/events/canceled-tips-837z-2025-04-01/
SUMMARY:Canceled | TIPS #837Z
DESCRIPTION:*This class has been canceled*\nTIPS is the 12-hour pre-service
  training program that is required prior to being approved as a Resource P
 arent by the County of San Diego.  The TIPS training consists of 4\, 3-ho
 ur training sessions.\nYou are registering for Class 837z. The dates for e
 ach of the 4 sessions are as follows:\n\nSession # 1 | Tuesday\, April 1\,
  2025\nSession # 2 | Thursday\, April 3\, 2025\nSession # 3 | Tuesday\, Ap
 ril 8\, 2025\nSession # 4 | Thursday\, April 10\, 2025\n\nYou will receive
  an email confirmation of your registration. The email will provide you w
 ith the first date of the class\, as well as the time and location. The da
 tes for sessions 2\, 3\, and 4 will not be provided. Please make a note 
 of those dates or reference the main TIPS page- Click here.\n***Please No
 te: This TIPS class will be facilitated on the Zoom platform.\nInternet a
 ccess and access to a computer/laptop/tablet/smartphone is required to att
 end.\nVirtual Backgrounds are not permitted in our Zoom meetings\, however
 \, blurred backgrounds are acceptable.\nYou cannot take this class in a ve
 hicle.\nThe Zoom link to attend this class will be provided via email.\nPl
 ease follow the link below for a brief tutorial on how to sign up for a fr
 ee Zoom account.\nZoom User Guide
ATTACH;FMTTYPE=image/jpeg:https://fakce.org/wp-content/uploads/2016/08/kid
 s-·-kids-·-kids.jpg
CATEGORIES:Classes,Online Classes,TIPS Classes,TIPS Sessions
LOCATION:Zoom\, 0000 Zoom \, San Diego\, United States
X-APPLE-STRUCTURED-LOCATION;VALUE=URI;X-ADDRESS=0000 Zoom \, San Diego\, Un
 ited States;X-APPLE-RADIUS=100;X-TITLE=Zoom:geo:0,0
END:VEVENT
BEGIN:VTIMEZONE
TZID:America/Los_Angeles
X-LIC-LOCATION:America/Los_Angeles
BEGIN:DAYLIGHT
DTSTART:20250309T030000
TZOFFSETFROM:-0800
TZOFFSETTO:-0700
TZNAME:PDT
END:DAYLIGHT
END:VTIMEZONE
END:VCALENDAR