BEGIN:VCALENDAR
VERSION:2.0
PRODID:-//wp-events-plugin.com//7.2.3.1//EN
TZID:America/Los_Angeles
X-WR-TIMEZONE:America/Los_Angeles
BEGIN:VEVENT
UID:17623@fakce.org
DTSTART;TZID=America/Los_Angeles:20250312T180000
DTEND;TZID=America/Los_Angeles:20250321T210000
DTSTAMP:20250310T120058Z
URL:https://fakce.org/events/canceled-tips-831z-2025-03-12/
SUMMARY:Canceled| TIPS #831Z
DESCRIPTION:**This Class Has Been Canceled**\nTIPS is the 12-hour pre-servi
 ce training program that is required prior to being approved as a Resource
  Parent by the County of San Diego.  The TIPS training consists of 4\, 3-
 hour training sessions.\n\nYou are registering for Class 831z. The dates f
 or each of the 4 sessions are as follows:\n\nSession # 1 | Wednesday\, Mar
 ch 12\, 2025\nSession # 2 | Friday\, March 14\, 2025\nSession # 3 | Wednes
 day\, March 19\, 2025\nSession # 4 | Friday\, March 21\, 2025\n\nYou will 
 receive an email confirmation of your registration. The email will provid
 e you with the first date of the class\, as well as the time and location.
  The dates for sessions 2\, 3\, and 4 will not be provided. Please make 
 a note of those dates or reference the main TIPS page- Click here.\n***Pl
 ease Note: This TIPS class will be facilitated on the Zoom platform.\nInt
 ernet access and access to a computer/laptop/tablet/smartphone is required
  to attend.\nVirtual Backgrounds are not permitted in our Zoom meetings\, 
 however\, blurred backgrounds are acceptable.\nYou cannot take this class 
 in a vehicle.\nThe Zoom link to attend this class will be provided via ema
 il.\nPlease follow the link below for a brief tutorial on how to sign up f
 or a free Zoom account.\nZoom User Guide
ATTACH;FMTTYPE=image/jpeg:https://fakce.org/wp-content/uploads/2016/08/kid
 s-·-kids-·-kids.jpg
CATEGORIES:Classes,Online Classes,TIPS Classes,TIPS Sessions
LOCATION:Zoom\, 0000 Zoom \, San Diego\, United States
X-APPLE-STRUCTURED-LOCATION;VALUE=URI;X-ADDRESS=0000 Zoom \, San Diego\, Un
 ited States;X-APPLE-RADIUS=100;X-TITLE=Zoom:geo:0,0
END:VEVENT
BEGIN:VTIMEZONE
TZID:America/Los_Angeles
X-LIC-LOCATION:America/Los_Angeles
BEGIN:DAYLIGHT
DTSTART:20250309T030000
TZOFFSETFROM:-0800
TZOFFSETTO:-0700
TZNAME:PDT
END:DAYLIGHT
END:VTIMEZONE
END:VCALENDAR