BEGIN:VCALENDAR
VERSION:2.0
PRODID:-//wp-events-plugin.com//7.2.3.1//EN
TZID:America/Los_Angeles
X-WR-TIMEZONE:America/Los_Angeles
BEGIN:VEVENT
UID:17346@fakce.org
DTSTART;TZID=America/Los_Angeles:20250227T180000
DTEND;TZID=America/Los_Angeles:20250311T210000
DTSTAMP:20250224T175301Z
URL:https://fakce.org/events/canceled-tips-826z-2025-02-27/
SUMMARY:Canceled | TIPS #826Z
DESCRIPTION:**This Series Has Been Canceled**\nTIPS is the 12-hour pre-serv
 ice training program that is required prior to being approved as a Resourc
 e Parent by the County of San Diego.  The TIPS training consists of 4\, 3
 -hour training sessions.\n\nYou are registering for Class 826z. The dates 
 for each of the 4 sessions are as follows:\n\nSession # 1 | Thursday\, Feb
 ruary 27\, 2025\nSession # 2 | Tuesday\, March 4\, 2025\nSession # 3 | Thu
 rsday\, March 6\, 2025\nSession # 4 | Tuesday\, March 11\, 2025\n\nYou wil
 l receive an email confirmation of your registration. The email will prov
 ide you with the first date of the class\, as well as the time and locatio
 n. The dates for sessions 2\, 3\, and 4 will not be provided. Please mak
 e a note of those dates or reference the main TIPS page- Click here.\n***
 Please Note: This TIPS class will be facilitated on the Zoom platform.\nI
 nternet access and access to a computer/laptop/tablet/smartphone is requir
 ed to attend.\nVirtual Backgrounds are not permitted in our Zoom meetings\
 , however\, blurred backgrounds are acceptable.\nYou cannot take this clas
 s in a vehicle.\nThe Zoom link to attend this class will be provided via e
 mail.\nPlease follow the link below for a brief tutorial on how to sign up
  for a free Zoom account.\nZoom User Guide
ATTACH;FMTTYPE=image/jpeg:https://fakce.org/wp-content/uploads/2016/08/kid
 s-·-kids-·-kids.jpg
CATEGORIES:Classes,Online Classes,TIPS Classes,TIPS Sessions
LOCATION:Zoom\, 0000 Zoom \, San Diego\, United States
X-APPLE-STRUCTURED-LOCATION;VALUE=URI;X-ADDRESS=0000 Zoom \, San Diego\, Un
 ited States;X-APPLE-RADIUS=100;X-TITLE=Zoom:geo:0,0
END:VEVENT
BEGIN:VTIMEZONE
TZID:America/Los_Angeles
X-LIC-LOCATION:America/Los_Angeles
BEGIN:STANDARD
DTSTART:20241103T010000
TZOFFSETFROM:-0700
TZOFFSETTO:-0800
TZNAME:PST
END:STANDARD
BEGIN:DAYLIGHT
DTSTART:20250309T030000
TZOFFSETFROM:-0800
TZOFFSETTO:-0700
TZNAME:PDT
END:DAYLIGHT
END:VTIMEZONE
END:VCALENDAR